BEGIN:VCALENDAR
VERSION:2.0
PRODID:-//Consortium of Christian Study Centers - ECPv6.15.20//NONSGML v1.0//EN
CALSCALE:GREGORIAN
METHOD:PUBLISH
X-WR-CALNAME:Consortium of Christian Study Centers
X-ORIGINAL-URL:https://cscmovement.org
X-WR-CALDESC:Events for Consortium of Christian Study Centers
REFRESH-INTERVAL;VALUE=DURATION:PT1H
X-Robots-Tag:noindex
X-PUBLISHED-TTL:PT1H
BEGIN:VTIMEZONE
TZID:America/Los_Angeles
BEGIN:DAYLIGHT
TZOFFSETFROM:-0800
TZOFFSETTO:-0700
TZNAME:PDT
DTSTART:20210314T100000
END:DAYLIGHT
BEGIN:STANDARD
TZOFFSETFROM:-0700
TZOFFSETTO:-0800
TZNAME:PST
DTSTART:20211107T090000
END:STANDARD
BEGIN:DAYLIGHT
TZOFFSETFROM:-0800
TZOFFSETTO:-0700
TZNAME:PDT
DTSTART:20220313T100000
END:DAYLIGHT
BEGIN:STANDARD
TZOFFSETFROM:-0700
TZOFFSETTO:-0800
TZNAME:PST
DTSTART:20221106T090000
END:STANDARD
BEGIN:DAYLIGHT
TZOFFSETFROM:-0800
TZOFFSETTO:-0700
TZNAME:PDT
DTSTART:20230312T100000
END:DAYLIGHT
BEGIN:STANDARD
TZOFFSETFROM:-0700
TZOFFSETTO:-0800
TZNAME:PST
DTSTART:20231105T090000
END:STANDARD
BEGIN:DAYLIGHT
TZOFFSETFROM:-0800
TZOFFSETTO:-0700
TZNAME:PDT
DTSTART:20240310T100000
END:DAYLIGHT
BEGIN:STANDARD
TZOFFSETFROM:-0700
TZOFFSETTO:-0800
TZNAME:PST
DTSTART:20241103T090000
END:STANDARD
END:VTIMEZONE
BEGIN:VTIMEZONE
TZID:America/Vancouver
BEGIN:DAYLIGHT
TZOFFSETFROM:-0800
TZOFFSETTO:-0700
TZNAME:PDT
DTSTART:20210314T100000
END:DAYLIGHT
BEGIN:STANDARD
TZOFFSETFROM:-0700
TZOFFSETTO:-0800
TZNAME:PST
DTSTART:20211107T090000
END:STANDARD
BEGIN:DAYLIGHT
TZOFFSETFROM:-0800
TZOFFSETTO:-0700
TZNAME:PDT
DTSTART:20220313T100000
END:DAYLIGHT
BEGIN:STANDARD
TZOFFSETFROM:-0700
TZOFFSETTO:-0800
TZNAME:PST
DTSTART:20221106T090000
END:STANDARD
BEGIN:DAYLIGHT
TZOFFSETFROM:-0800
TZOFFSETTO:-0700
TZNAME:PDT
DTSTART:20230312T100000
END:DAYLIGHT
BEGIN:STANDARD
TZOFFSETFROM:-0700
TZOFFSETTO:-0800
TZNAME:PST
DTSTART:20231105T090000
END:STANDARD
END:VTIMEZONE
BEGIN:VEVENT
DTSTART;TZID=America/Los_Angeles:20230208T190000
DTEND;TZID=America/Los_Angeles:20230208T200000
DTSTAMP:20260423T131929
CREATED:20230207T004358Z
LAST-MODIFIED:20230207T004358Z
UID:10000645-1675882800-1675886400@cscmovement.org
SUMMARY:Scholarship & Devotion: Lovers in a Dangerous Time
DESCRIPTION:Bruce Hindmarsh of Regent College joins the Scriptorium to speak on how love transforms our experience of academic work\, however mundane or routine. Drawing from the deep well of Christian tradition\, Hindmarsh will explore two forms of scholarly love: a love characterized by wonder\, and a love characterized by discipline.
URL:https://cscmovement.org/event/scholarship-devotion-lovers-in-a-dangerous-time/
LOCATION:University Chapel\, 5375 University Boulevard\, Vancouver\, British Columbia\, V6T 1K3\, Canada
CATEGORIES:In Person,Study Center Events
ATTACH;FMTTYPE=image/png:https://cscmovement.org/wp-content/uploads/2022/02/the_scriptorium_logo-transparent-e1657292907373.png
END:VEVENT
BEGIN:VEVENT
DTSTART;TZID=America/Los_Angeles:20221215T180000
DTEND;TZID=America/Los_Angeles:20221215T190000
DTSTAMP:20260423T131929
CREATED:20221206T145536Z
LAST-MODIFIED:20221206T145536Z
UID:10000613-1671127200-1671130800@cscmovement.org
SUMMARY:Advent 'O' Antiphons Evensong Service
DESCRIPTION:Join us the Scriptorium on Thursday\, December 15 at 6pm for a candlelit Evensong service with the great ‘O’ Antiphons of Advent. This is the final Evensong before Christmas. The choir will lead in the chanting of the antiphons and help draw us nearer to the birth of Christ through this contemplative service. \nThe Church has been singing the “O” Antiphons since at least the eighth century. Traditionally the antiphons accompany the Magnificat canticle of Evening Prayer from December 17-23. The O Antiphons contain magnificent theology that uses ancient biblical imagery drawn from the messianic hopes of the Old Testament to proclaim the coming Christ as the fulfillment not only of Old Testament hopes\, but present ones as well. Their repeated use of the imperative “Come!” embodies the longing of all for the Divine Messiah.
URL:https://cscmovement.org/event/advent-o-antiphons-evensong-service/
LOCATION:University Chapel\, 5375 University Boulevard\, Vancouver\, British Columbia\, V6T 1K3\, Canada
CATEGORIES:In Person,Study Center Events
ATTACH;FMTTYPE=image/png:https://cscmovement.org/wp-content/uploads/2022/02/the_scriptorium_logo-transparent-e1657292907373.png
END:VEVENT
BEGIN:VEVENT
DTSTART;TZID=America/Los_Angeles:20221123T190000
DTEND;TZID=America/Los_Angeles:20221123T210000
DTSTAMP:20260423T131929
CREATED:20221103T162907Z
LAST-MODIFIED:20221103T162907Z
UID:10000606-1669230000-1669237200@cscmovement.org
SUMMARY:Science\, Faith & The James Webb Space Telescope with Dr. Arnold Sikkema
DESCRIPTION:How does the Christian faith interact with the latest discoveries in astronomy\, and in science generally? What habits of mind can we adopt to engage fruitfully in the face of strident “scientific” atheism and Biblical literalism? The Scriptorium’s speaker will share a personal story of doubt and fear along his journey\, explain some features of the James Webb Space Telescope and its discoveries\, and encourage students young and old to explore God’s world with confidence\, humility\, and joy. \nArnold E. Sikkema is Professor of Physics at Trinity Western University and Executive Director of the Canadian Scientific & Christian Affiliation.
URL:https://cscmovement.org/event/science-faith-the-james-webb-space-telescope-with-dr-arnold-sikkema/
LOCATION:University Chapel\, 5375 University Boulevard\, Vancouver\, British Columbia\, V6T 1K3\, Canada
CATEGORIES:In Person,Study Center Events
ATTACH;FMTTYPE=image/png:https://cscmovement.org/wp-content/uploads/2022/02/the_scriptorium_logo-transparent-e1657292907373.png
END:VEVENT
BEGIN:VEVENT
DTSTART;TZID=America/Los_Angeles:20220928T190000
DTEND;TZID=America/Los_Angeles:20220928T210000
DTSTAMP:20260423T131929
CREATED:20220829T175759Z
LAST-MODIFIED:20220829T175759Z
UID:10000447-1664391600-1664398800@cscmovement.org
SUMMARY:The Scriptorium Grand Opening
DESCRIPTION:Please join the Scriptorium for the official grand opening of the study centre! \nThe special guest for the evening will be President Santa Ono. Dr. Ono is the 15th president and vice chancellor of University of British Columbia. A Christian\, Dr. Ono has spoken on many occasions about the importance of his own faith\, as well as the vital role of religious communities and leadership at the University. \nPresident Ono will be speaking on the theme of “Faith Seeking Understanding.” \nThe event will also feature an introduction to the Study Centre Movement\, as well as live music\, and refreshments.
URL:https://cscmovement.org/event/the-scriptorium-grand-opening/
LOCATION:University Chapel\, 5375 University Boulevard\, Vancouver\, British Columbia\, V6T 1K3\, Canada
CATEGORIES:In Person,Study Center Events
ATTACH;FMTTYPE=image/png:https://cscmovement.org/wp-content/uploads/2022/02/the_scriptorium_logo-transparent-e1657292907373.png
END:VEVENT
BEGIN:VEVENT
DTSTART;TZID=America/Vancouver:20220526T180000
DTEND;TZID=America/Vancouver:20220526T200000
DTSTAMP:20260423T131929
CREATED:20220520T135649Z
LAST-MODIFIED:20220520T135649Z
UID:10000552-1653588000-1653595200@cscmovement.org
SUMMARY:Feast of the Ascension
DESCRIPTION:The Feast of the Ascension is 40 days after the resurrection of Christ. Join St. Thomas Mission for Holy Communion at 6pm followed by a pizza party (homemade in a pizza oven\, not Domino’s).  If the weather is nice\, enjoy the feasting outside on lawn at University Chapel.
URL:https://cscmovement.org/event/feast-of-the-ascension/
LOCATION:University Chapel\, 5375 University Boulevard\, Vancouver\, British Columbia\, V6T 1K3\, Canada
CATEGORIES:In Person,Study Center Events
ATTACH;FMTTYPE=image/png:https://cscmovement.org/wp-content/uploads/2022/02/Saint-Thomas-Mission.png
END:VEVENT
END:VCALENDAR