BEGIN:VCALENDAR
VERSION:2.0
PRODID:-//Consortium of Christian Study Centers - ECPv6.15.20//NONSGML v1.0//EN
CALSCALE:GREGORIAN
METHOD:PUBLISH
X-ORIGINAL-URL:https://cscmovement.org
X-WR-CALDESC:Events for Consortium of Christian Study Centers
REFRESH-INTERVAL;VALUE=DURATION:PT1H
X-Robots-Tag:noindex
X-PUBLISHED-TTL:PT1H
BEGIN:VTIMEZONE
TZID:America/New_York
BEGIN:DAYLIGHT
TZOFFSETFROM:-0500
TZOFFSETTO:-0400
TZNAME:EDT
DTSTART:20210314T070000
END:DAYLIGHT
BEGIN:STANDARD
TZOFFSETFROM:-0400
TZOFFSETTO:-0500
TZNAME:EST
DTSTART:20211107T060000
END:STANDARD
BEGIN:DAYLIGHT
TZOFFSETFROM:-0500
TZOFFSETTO:-0400
TZNAME:EDT
DTSTART:20220313T070000
END:DAYLIGHT
BEGIN:STANDARD
TZOFFSETFROM:-0400
TZOFFSETTO:-0500
TZNAME:EST
DTSTART:20221106T060000
END:STANDARD
BEGIN:DAYLIGHT
TZOFFSETFROM:-0500
TZOFFSETTO:-0400
TZNAME:EDT
DTSTART:20230312T070000
END:DAYLIGHT
BEGIN:STANDARD
TZOFFSETFROM:-0400
TZOFFSETTO:-0500
TZNAME:EST
DTSTART:20231105T060000
END:STANDARD
END:VTIMEZONE
BEGIN:VEVENT
DTSTART;TZID=America/New_York:20221116T140000
DTEND;TZID=America/New_York:20221116T150000
DTSTAMP:20260421T152853
CREATED:20220905T192425Z
LAST-MODIFIED:20220905T192425Z
UID:10000467-1668607200-1668610800@cscmovement.org
SUMMARY:Pascal Study Center Student Reading Group
DESCRIPTION:Do you believe that you are your own person\, belonging to no one else? Whether this leaves you feeling free from all restraints or anxious and overwhelmed\, you are probably used to assuming that you are responsible for making your own identity and your own path through the world. But what if the most life-giving truth is that you are not your own? \nThis fall\, Pascal Study Center’s student reading group is discussing Alan Noble’s You Are Not Your Own: Belonging to God in an Inhuman World. With self-deprecating humor and all-too-relatable examples\, Noble considers the ways we all try to navigate the Responsibilities of Self-Belonging and the unexpected comfort of belonging to God.
URL:https://cscmovement.org/event/pascal-study-center-student-reading-group/2022-11-16/
LOCATION:University Baptist Church\, 314 E Daniel St\, Champaign\, IL\, 61820
CATEGORIES:In Person,Study Center Events
ATTACH;FMTTYPE=image/svg+xml:https://cscmovement.org/wp-content/uploads/2022/02/Pascal-Study-Center-Logo.svg
END:VEVENT
BEGIN:VEVENT
DTSTART;TZID=America/New_York:20221109T140000
DTEND;TZID=America/New_York:20221109T150000
DTSTAMP:20260421T152853
CREATED:20220905T192425Z
LAST-MODIFIED:20220905T192425Z
UID:10000466-1668002400-1668006000@cscmovement.org
SUMMARY:Pascal Study Center Student Reading Group
DESCRIPTION:Do you believe that you are your own person\, belonging to no one else? Whether this leaves you feeling free from all restraints or anxious and overwhelmed\, you are probably used to assuming that you are responsible for making your own identity and your own path through the world. But what if the most life-giving truth is that you are not your own? \nThis fall\, Pascal Study Center’s student reading group is discussing Alan Noble’s You Are Not Your Own: Belonging to God in an Inhuman World. With self-deprecating humor and all-too-relatable examples\, Noble considers the ways we all try to navigate the Responsibilities of Self-Belonging and the unexpected comfort of belonging to God.
URL:https://cscmovement.org/event/pascal-study-center-student-reading-group/2022-11-09/
LOCATION:University Baptist Church\, 314 E Daniel St\, Champaign\, IL\, 61820
CATEGORIES:In Person,Study Center Events
ATTACH;FMTTYPE=image/svg+xml:https://cscmovement.org/wp-content/uploads/2022/02/Pascal-Study-Center-Logo.svg
END:VEVENT
BEGIN:VEVENT
DTSTART;TZID=America/New_York:20221102T140000
DTEND;TZID=America/New_York:20221102T150000
DTSTAMP:20260421T152853
CREATED:20220905T192425Z
LAST-MODIFIED:20220905T192425Z
UID:10000465-1667397600-1667401200@cscmovement.org
SUMMARY:Pascal Study Center Student Reading Group
DESCRIPTION:Do you believe that you are your own person\, belonging to no one else? Whether this leaves you feeling free from all restraints or anxious and overwhelmed\, you are probably used to assuming that you are responsible for making your own identity and your own path through the world. But what if the most life-giving truth is that you are not your own? \nThis fall\, Pascal Study Center’s student reading group is discussing Alan Noble’s You Are Not Your Own: Belonging to God in an Inhuman World. With self-deprecating humor and all-too-relatable examples\, Noble considers the ways we all try to navigate the Responsibilities of Self-Belonging and the unexpected comfort of belonging to God.
URL:https://cscmovement.org/event/pascal-study-center-student-reading-group/2022-11-02/
LOCATION:University Baptist Church\, 314 E Daniel St\, Champaign\, IL\, 61820
CATEGORIES:In Person,Study Center Events
ATTACH;FMTTYPE=image/svg+xml:https://cscmovement.org/wp-content/uploads/2022/02/Pascal-Study-Center-Logo.svg
END:VEVENT
BEGIN:VEVENT
DTSTART;TZID=America/New_York:20221026T140000
DTEND;TZID=America/New_York:20221026T150000
DTSTAMP:20260421T152853
CREATED:20220905T192425Z
LAST-MODIFIED:20220905T192425Z
UID:10000464-1666792800-1666796400@cscmovement.org
SUMMARY:Pascal Study Center Student Reading Group
DESCRIPTION:Do you believe that you are your own person\, belonging to no one else? Whether this leaves you feeling free from all restraints or anxious and overwhelmed\, you are probably used to assuming that you are responsible for making your own identity and your own path through the world. But what if the most life-giving truth is that you are not your own? \nThis fall\, Pascal Study Center’s student reading group is discussing Alan Noble’s You Are Not Your Own: Belonging to God in an Inhuman World. With self-deprecating humor and all-too-relatable examples\, Noble considers the ways we all try to navigate the Responsibilities of Self-Belonging and the unexpected comfort of belonging to God.
URL:https://cscmovement.org/event/pascal-study-center-student-reading-group/2022-10-26/
LOCATION:University Baptist Church\, 314 E Daniel St\, Champaign\, IL\, 61820
CATEGORIES:In Person,Study Center Events
ATTACH;FMTTYPE=image/svg+xml:https://cscmovement.org/wp-content/uploads/2022/02/Pascal-Study-Center-Logo.svg
END:VEVENT
BEGIN:VEVENT
DTSTART;TZID=America/New_York:20221019T140000
DTEND;TZID=America/New_York:20221019T150000
DTSTAMP:20260421T152853
CREATED:20220905T192425Z
LAST-MODIFIED:20220905T192425Z
UID:10000463-1666188000-1666191600@cscmovement.org
SUMMARY:Pascal Study Center Student Reading Group
DESCRIPTION:Do you believe that you are your own person\, belonging to no one else? Whether this leaves you feeling free from all restraints or anxious and overwhelmed\, you are probably used to assuming that you are responsible for making your own identity and your own path through the world. But what if the most life-giving truth is that you are not your own? \nThis fall\, Pascal Study Center’s student reading group is discussing Alan Noble’s You Are Not Your Own: Belonging to God in an Inhuman World. With self-deprecating humor and all-too-relatable examples\, Noble considers the ways we all try to navigate the Responsibilities of Self-Belonging and the unexpected comfort of belonging to God.
URL:https://cscmovement.org/event/pascal-study-center-student-reading-group/2022-10-19/
LOCATION:University Baptist Church\, 314 E Daniel St\, Champaign\, IL\, 61820
CATEGORIES:In Person,Study Center Events
ATTACH;FMTTYPE=image/svg+xml:https://cscmovement.org/wp-content/uploads/2022/02/Pascal-Study-Center-Logo.svg
END:VEVENT
BEGIN:VEVENT
DTSTART;TZID=America/New_York:20221012T140000
DTEND;TZID=America/New_York:20221012T150000
DTSTAMP:20260421T152853
CREATED:20220905T192425Z
LAST-MODIFIED:20220905T192425Z
UID:10000462-1665583200-1665586800@cscmovement.org
SUMMARY:Pascal Study Center Student Reading Group
DESCRIPTION:Do you believe that you are your own person\, belonging to no one else? Whether this leaves you feeling free from all restraints or anxious and overwhelmed\, you are probably used to assuming that you are responsible for making your own identity and your own path through the world. But what if the most life-giving truth is that you are not your own? \nThis fall\, Pascal Study Center’s student reading group is discussing Alan Noble’s You Are Not Your Own: Belonging to God in an Inhuman World. With self-deprecating humor and all-too-relatable examples\, Noble considers the ways we all try to navigate the Responsibilities of Self-Belonging and the unexpected comfort of belonging to God.
URL:https://cscmovement.org/event/pascal-study-center-student-reading-group/2022-10-12/
LOCATION:University Baptist Church\, 314 E Daniel St\, Champaign\, IL\, 61820
CATEGORIES:In Person,Study Center Events
ATTACH;FMTTYPE=image/svg+xml:https://cscmovement.org/wp-content/uploads/2022/02/Pascal-Study-Center-Logo.svg
END:VEVENT
BEGIN:VEVENT
DTSTART;TZID=America/New_York:20221005T140000
DTEND;TZID=America/New_York:20221005T150000
DTSTAMP:20260421T152853
CREATED:20220905T192425Z
LAST-MODIFIED:20220905T192425Z
UID:10000461-1664978400-1664982000@cscmovement.org
SUMMARY:Pascal Study Center Student Reading Group
DESCRIPTION:Do you believe that you are your own person\, belonging to no one else? Whether this leaves you feeling free from all restraints or anxious and overwhelmed\, you are probably used to assuming that you are responsible for making your own identity and your own path through the world. But what if the most life-giving truth is that you are not your own? \nThis fall\, Pascal Study Center’s student reading group is discussing Alan Noble’s You Are Not Your Own: Belonging to God in an Inhuman World. With self-deprecating humor and all-too-relatable examples\, Noble considers the ways we all try to navigate the Responsibilities of Self-Belonging and the unexpected comfort of belonging to God.
URL:https://cscmovement.org/event/pascal-study-center-student-reading-group/2022-10-05/
LOCATION:University Baptist Church\, 314 E Daniel St\, Champaign\, IL\, 61820
CATEGORIES:In Person,Study Center Events
ATTACH;FMTTYPE=image/svg+xml:https://cscmovement.org/wp-content/uploads/2022/02/Pascal-Study-Center-Logo.svg
END:VEVENT
BEGIN:VEVENT
DTSTART;TZID=America/New_York:20220928T140000
DTEND;TZID=America/New_York:20220928T150000
DTSTAMP:20260421T152853
CREATED:20220905T192425Z
LAST-MODIFIED:20220905T192425Z
UID:10000460-1664373600-1664377200@cscmovement.org
SUMMARY:Pascal Study Center Student Reading Group
DESCRIPTION:Do you believe that you are your own person\, belonging to no one else? Whether this leaves you feeling free from all restraints or anxious and overwhelmed\, you are probably used to assuming that you are responsible for making your own identity and your own path through the world. But what if the most life-giving truth is that you are not your own? \nThis fall\, Pascal Study Center’s student reading group is discussing Alan Noble’s You Are Not Your Own: Belonging to God in an Inhuman World. With self-deprecating humor and all-too-relatable examples\, Noble considers the ways we all try to navigate the Responsibilities of Self-Belonging and the unexpected comfort of belonging to God.
URL:https://cscmovement.org/event/pascal-study-center-student-reading-group/2022-09-28/
LOCATION:University Baptist Church\, 314 E Daniel St\, Champaign\, IL\, 61820
CATEGORIES:In Person,Study Center Events
ATTACH;FMTTYPE=image/svg+xml:https://cscmovement.org/wp-content/uploads/2022/02/Pascal-Study-Center-Logo.svg
END:VEVENT
BEGIN:VEVENT
DTSTART;TZID=America/New_York:20220921T140000
DTEND;TZID=America/New_York:20220921T150000
DTSTAMP:20260421T152853
CREATED:20220905T192425Z
LAST-MODIFIED:20220905T192425Z
UID:10000459-1663768800-1663772400@cscmovement.org
SUMMARY:Pascal Study Center Student Reading Group
DESCRIPTION:Do you believe that you are your own person\, belonging to no one else? Whether this leaves you feeling free from all restraints or anxious and overwhelmed\, you are probably used to assuming that you are responsible for making your own identity and your own path through the world. But what if the most life-giving truth is that you are not your own? \nThis fall\, Pascal Study Center’s student reading group is discussing Alan Noble’s You Are Not Your Own: Belonging to God in an Inhuman World. With self-deprecating humor and all-too-relatable examples\, Noble considers the ways we all try to navigate the Responsibilities of Self-Belonging and the unexpected comfort of belonging to God.
URL:https://cscmovement.org/event/pascal-study-center-student-reading-group/2022-09-21/
LOCATION:University Baptist Church\, 314 E Daniel St\, Champaign\, IL\, 61820
CATEGORIES:In Person,Study Center Events
ATTACH;FMTTYPE=image/svg+xml:https://cscmovement.org/wp-content/uploads/2022/02/Pascal-Study-Center-Logo.svg
END:VEVENT
BEGIN:VEVENT
DTSTART;TZID=America/New_York:20220914T140000
DTEND;TZID=America/New_York:20220914T150000
DTSTAMP:20260421T152853
CREATED:20220905T192425Z
LAST-MODIFIED:20220905T192425Z
UID:10000458-1663164000-1663167600@cscmovement.org
SUMMARY:Pascal Study Center Student Reading Group
DESCRIPTION:Do you believe that you are your own person\, belonging to no one else? Whether this leaves you feeling free from all restraints or anxious and overwhelmed\, you are probably used to assuming that you are responsible for making your own identity and your own path through the world. But what if the most life-giving truth is that you are not your own? \nThis fall\, Pascal Study Center’s student reading group is discussing Alan Noble’s You Are Not Your Own: Belonging to God in an Inhuman World. With self-deprecating humor and all-too-relatable examples\, Noble considers the ways we all try to navigate the Responsibilities of Self-Belonging and the unexpected comfort of belonging to God.
URL:https://cscmovement.org/event/pascal-study-center-student-reading-group/2022-09-14/
LOCATION:University Baptist Church\, 314 E Daniel St\, Champaign\, IL\, 61820
CATEGORIES:In Person,Study Center Events
ATTACH;FMTTYPE=image/svg+xml:https://cscmovement.org/wp-content/uploads/2022/02/Pascal-Study-Center-Logo.svg
END:VEVENT
END:VCALENDAR