BEGIN:VCALENDAR
VERSION:2.0
PRODID:-//Consortium of Christian Study Centers - ECPv6.15.20//NONSGML v1.0//EN
CALSCALE:GREGORIAN
METHOD:PUBLISH
X-ORIGINAL-URL:https://cscmovement.org
X-WR-CALDESC:Events for Consortium of Christian Study Centers
REFRESH-INTERVAL;VALUE=DURATION:PT1H
X-Robots-Tag:noindex
X-PUBLISHED-TTL:PT1H
BEGIN:VTIMEZONE
TZID:America/New_York
BEGIN:DAYLIGHT
TZOFFSETFROM:-0500
TZOFFSETTO:-0400
TZNAME:EDT
DTSTART:20210314T070000
END:DAYLIGHT
BEGIN:STANDARD
TZOFFSETFROM:-0400
TZOFFSETTO:-0500
TZNAME:EST
DTSTART:20211107T060000
END:STANDARD
BEGIN:DAYLIGHT
TZOFFSETFROM:-0500
TZOFFSETTO:-0400
TZNAME:EDT
DTSTART:20220313T070000
END:DAYLIGHT
BEGIN:STANDARD
TZOFFSETFROM:-0400
TZOFFSETTO:-0500
TZNAME:EST
DTSTART:20221106T060000
END:STANDARD
BEGIN:DAYLIGHT
TZOFFSETFROM:-0500
TZOFFSETTO:-0400
TZNAME:EDT
DTSTART:20230312T070000
END:DAYLIGHT
BEGIN:STANDARD
TZOFFSETFROM:-0400
TZOFFSETTO:-0500
TZNAME:EST
DTSTART:20231105T060000
END:STANDARD
BEGIN:DAYLIGHT
TZOFFSETFROM:-0500
TZOFFSETTO:-0400
TZNAME:EDT
DTSTART:20240310T070000
END:DAYLIGHT
BEGIN:STANDARD
TZOFFSETFROM:-0400
TZOFFSETTO:-0500
TZNAME:EST
DTSTART:20241103T060000
END:STANDARD
BEGIN:DAYLIGHT
TZOFFSETFROM:-0500
TZOFFSETTO:-0400
TZNAME:EDT
DTSTART:20250309T070000
END:DAYLIGHT
BEGIN:STANDARD
TZOFFSETFROM:-0400
TZOFFSETTO:-0500
TZNAME:EST
DTSTART:20251102T060000
END:STANDARD
END:VTIMEZONE
BEGIN:VEVENT
DTSTART;TZID=America/New_York:20240611T180000
DTEND;TZID=America/New_York:20240611T210000
DTSTAMP:20260421T182209
CREATED:20240528T184250Z
LAST-MODIFIED:20240528T184313Z
UID:10001115-1718128800-1718139600@cscmovement.org
SUMMARY:An Evening of Poetry
DESCRIPTION:Join Beatrice Institute and The Port for an evening of poetry\, cookies\, wine\, and friendship in just a few weeks. You’ll hear poems from Ryan Wilson\, author of How to Think Like a Poet and editor-in-chief of Literary Matters\, and others. \nThis event is free and open to the public\, so feel free to bring a friend!
URL:https://cscmovement.org/event/an-evening-of-poetry/
LOCATION:The Port\, 3620 Butler St\, Pittsburgh\, PA\, 15201
CATEGORIES:In Person,Study Center Events
ATTACH;FMTTYPE=image/png:https://cscmovement.org/wp-content/uploads/2022/06/Beatride-Institute-Logo-1.png
END:VEVENT
BEGIN:VEVENT
DTSTART;TZID=America/New_York:20221021T190000
DTEND;TZID=America/New_York:20221021T210000
DTSTAMP:20260421T182209
CREATED:20221004T103910Z
LAST-MODIFIED:20221004T103910Z
UID:10000596-1666378800-1666386000@cscmovement.org
SUMMARY:
DESCRIPTION:Join the Beatrice Institute for an evening with artist\, Ann Schmalstieg Barrett\, as she guides us through her work An Illuminated Requiem: Meditations on Love and Mortality. Inspired by the tradition of illuminated manuscripts\, the Proper Chants of the Requiem Mass are presented with images that reveal the content of each prayer. Through the work\, the viewer is invited to consider the origin of death in scripture\, God’s response through Christ\, the relationship between justice and mercy\, and the significance of prayer for the departed. \nCreated in honor of the artists’ late husband (KIA Afghanistan 2010)\, the exhibit also includes still life paintings to express the experience of the heart in sorrow. With sensitivity to those currently grieving\, the exhibit seeks to help reconcile our understanding of God\, Who is Love\, with the heartbreak caused by death.
URL:https://cscmovement.org/event/3292/
LOCATION:The Port\, 3620 Butler St\, Pittsburgh\, PA\, 15201
CATEGORIES:In Person,Study Center Events
ATTACH;FMTTYPE=image/png:https://cscmovement.org/wp-content/uploads/2022/06/Beatride-Institute-Logo-1.png
END:VEVENT
END:VCALENDAR