BEGIN:VCALENDAR
VERSION:2.0
PRODID:-//Consortium of Christian Study Centers - ECPv6.15.20//NONSGML v1.0//EN
CALSCALE:GREGORIAN
METHOD:PUBLISH
X-ORIGINAL-URL:https://cscmovement.org
X-WR-CALDESC:Events for Consortium of Christian Study Centers
REFRESH-INTERVAL;VALUE=DURATION:PT1H
X-Robots-Tag:noindex
X-PUBLISHED-TTL:PT1H
BEGIN:VTIMEZONE
TZID:America/Chicago
BEGIN:DAYLIGHT
TZOFFSETFROM:-0600
TZOFFSETTO:-0500
TZNAME:CDT
DTSTART:20210314T080000
END:DAYLIGHT
BEGIN:STANDARD
TZOFFSETFROM:-0500
TZOFFSETTO:-0600
TZNAME:CST
DTSTART:20211107T070000
END:STANDARD
BEGIN:DAYLIGHT
TZOFFSETFROM:-0600
TZOFFSETTO:-0500
TZNAME:CDT
DTSTART:20220313T080000
END:DAYLIGHT
BEGIN:STANDARD
TZOFFSETFROM:-0500
TZOFFSETTO:-0600
TZNAME:CST
DTSTART:20221106T070000
END:STANDARD
BEGIN:DAYLIGHT
TZOFFSETFROM:-0600
TZOFFSETTO:-0500
TZNAME:CDT
DTSTART:20230312T080000
END:DAYLIGHT
BEGIN:STANDARD
TZOFFSETFROM:-0500
TZOFFSETTO:-0600
TZNAME:CST
DTSTART:20231105T070000
END:STANDARD
END:VTIMEZONE
BEGIN:VEVENT
DTSTART;TZID=America/Chicago:20220922T190000
DTEND;TZID=America/Chicago:20220922T203000
DTSTAMP:20260421T183254
CREATED:20220905T200531Z
LAST-MODIFIED:20220905T200531Z
UID:10000469-1663873200-1663878600@cscmovement.org
SUMMARY:Loving Strangers: A Modern Philosophical Defense
DESCRIPTION:All are invited to join Anselm House for the 27th Annual Holmer Lecture this fall. \nWe have the capacity to extend our loving concern to others in surprising ways\, sometimes to complete strangers. But love for strangers may at times seem to risk our own well-being or that of those close to us. Why should we act for the good of others in such situations? Join us as we explore the moral signifiance of our love for strangers\, developing a theory of the role that love’s reasons play in our moral lives. \nDr. Meghan Sullivan is the Wilsey Family College Professor of Philosophy and the Director of the Notre Dame Institute of Advanced Study.
URL:https://cscmovement.org/event/loving-strangers-a-modern-philosophical-defense/
LOCATION:St. Paul Student Center Theatre\, 2017 Buford Ave\, St. Paul\, MN\, 55108
CATEGORIES:In Person,Study Center Events
ATTACH;FMTTYPE=image/png:https://cscmovement.org/wp-content/uploads/2022/05/Anselm-House-Logo.png
END:VEVENT
END:VCALENDAR