BEGIN:VCALENDAR
VERSION:2.0
PRODID:-//Consortium of Christian Study Centers - ECPv6.15.20//NONSGML v1.0//EN
CALSCALE:GREGORIAN
METHOD:PUBLISH
X-WR-CALNAME:Consortium of Christian Study Centers
X-ORIGINAL-URL:https://cscmovement.org
X-WR-CALDESC:Events for Consortium of Christian Study Centers
REFRESH-INTERVAL;VALUE=DURATION:PT1H
X-Robots-Tag:noindex
X-PUBLISHED-TTL:PT1H
BEGIN:VTIMEZONE
TZID:America/New_York
BEGIN:DAYLIGHT
TZOFFSETFROM:-0500
TZOFFSETTO:-0400
TZNAME:EDT
DTSTART:20230312T070000
END:DAYLIGHT
BEGIN:STANDARD
TZOFFSETFROM:-0400
TZOFFSETTO:-0500
TZNAME:EST
DTSTART:20231105T060000
END:STANDARD
BEGIN:DAYLIGHT
TZOFFSETFROM:-0500
TZOFFSETTO:-0400
TZNAME:EDT
DTSTART:20240310T070000
END:DAYLIGHT
BEGIN:STANDARD
TZOFFSETFROM:-0400
TZOFFSETTO:-0500
TZNAME:EST
DTSTART:20241103T060000
END:STANDARD
BEGIN:DAYLIGHT
TZOFFSETFROM:-0500
TZOFFSETTO:-0400
TZNAME:EDT
DTSTART:20250309T070000
END:DAYLIGHT
BEGIN:STANDARD
TZOFFSETFROM:-0400
TZOFFSETTO:-0500
TZNAME:EST
DTSTART:20251102T060000
END:STANDARD
END:VTIMEZONE
BEGIN:VEVENT
DTSTART;TZID=America/New_York:20240321T193000
DTEND;TZID=America/New_York:20240321T210000
DTSTAMP:20260421T151513
CREATED:20240207T221246Z
LAST-MODIFIED:20240207T221246Z
UID:10001078-1711049400-1711054800@cscmovement.org
SUMMARY:Veritas Forum: Can Science Explain Everything?
DESCRIPTION:Science has answered so many questions about how the universe works and how we can work for the betterment of humanity.  Faced with such scientific advances\, many conclude there is no longer any need for religion and belief systems to understand the mysteries of our universe. But do the limits of science as a way of knowing mean that there are some questions science is incapable of answering? And is there a need for science itself to be informed by religion or human values? \nJoin the Bradley Study Center for a discussion with MIT chemistry professor Dr. Troy Van Voorhis and VT philosophy professor Dr. Wendy Parker\, moderated by Dr. Kevin Pitts\, the dean of Virginia Tech’s College of Science.  (co-sponsored by BSC\, Cru\, RUF\, BCM\, and Catholic Campus Ministry)
URL:https://cscmovement.org/event/veritas-forum-can-science-explain-everything/
LOCATION:Squires Colonial Hall\, 290 College Ave\, Blacksburg\, VA\, 24060
CATEGORIES:In Person,Study Center Events
ATTACH;FMTTYPE=image/png:https://cscmovement.org/wp-content/uploads/2022/01/bsc-logo-Mike-Weaver.png
END:VEVENT
BEGIN:VEVENT
DTSTART;TZID=America/New_York:20240321T173000
DTEND;TZID=America/New_York:20240321T183000
DTSTAMP:20260421T151513
CREATED:20240305T194914Z
LAST-MODIFIED:20240305T194914Z
UID:10001093-1711042200-1711045800@cscmovement.org
SUMMARY:Can Science Explain Everything?
DESCRIPTION:Join the Bradley Study Center for a Veritas Forum featuring MIT Chemistry Professor Troy Van Voorhis and Virginia Tech Philosophy Professor Wendy Parker to explore whether there are questions science is incapable of answering.
URL:https://cscmovement.org/event/can-science-explain-everything/
LOCATION:Squires Colonial Hall\, 290 College Ave\, Blacksburg\, VA\, 24060
CATEGORIES:In Person,Study Center Events
ATTACH;FMTTYPE=image/png:https://cscmovement.org/wp-content/uploads/2022/01/bsc-logo-Mike-Weaver.png
END:VEVENT
END:VCALENDAR