BEGIN:VCALENDAR
VERSION:2.0
PRODID:-//Consortium of Christian Study Centers - ECPv6.15.20//NONSGML v1.0//EN
CALSCALE:GREGORIAN
METHOD:PUBLISH
X-ORIGINAL-URL:https://cscmovement.org
X-WR-CALDESC:Events for Consortium of Christian Study Centers
REFRESH-INTERVAL;VALUE=DURATION:PT1H
X-Robots-Tag:noindex
X-PUBLISHED-TTL:PT1H
BEGIN:VTIMEZONE
TZID:America/New_York
BEGIN:DAYLIGHT
TZOFFSETFROM:-0500
TZOFFSETTO:-0400
TZNAME:EDT
DTSTART:20230312T070000
END:DAYLIGHT
BEGIN:STANDARD
TZOFFSETFROM:-0400
TZOFFSETTO:-0500
TZNAME:EST
DTSTART:20231105T060000
END:STANDARD
BEGIN:DAYLIGHT
TZOFFSETFROM:-0500
TZOFFSETTO:-0400
TZNAME:EDT
DTSTART:20240310T070000
END:DAYLIGHT
BEGIN:STANDARD
TZOFFSETFROM:-0400
TZOFFSETTO:-0500
TZNAME:EST
DTSTART:20241103T060000
END:STANDARD
BEGIN:DAYLIGHT
TZOFFSETFROM:-0500
TZOFFSETTO:-0400
TZNAME:EDT
DTSTART:20250309T070000
END:DAYLIGHT
BEGIN:STANDARD
TZOFFSETFROM:-0400
TZOFFSETTO:-0500
TZNAME:EST
DTSTART:20251102T060000
END:STANDARD
END:VTIMEZONE
BEGIN:VEVENT
DTSTART;TZID=America/New_York:20240125T173000
DTEND;TZID=America/New_York:20240125T190000
DTSTAMP:20260421T173052
CREATED:20231220T155946Z
LAST-MODIFIED:20231220T155946Z
UID:10001007-1706203800-1706209200@cscmovement.org
SUMMARY:Dr. Angel Adams Parham Event on Black Intellectual Tradition
DESCRIPTION:Dr. Angel Adams Parham is an Associate Professor of Sociology at the University of Virginia\, a national leader in the classical education movement\, and co-author of the recent The Black Intellectual Tradition: Reading Freedom in Classical Literature (2022). She is the cofounder and executive director of Nyansa Classical Community\, which provides curricula and programming designed to connect with students from diverse backgrounds and invites them to take part in the Great Conversation\, cultivate their moral imagination\, and pursue truth\, goodness\, and beauty. As an advocate for the renewal of classical education\, Angel has addressed teachers and school leaders through the Society for Classical Learning\, the Classic Learning Test\, and other organizations. She works in the area of historical sociology\, engaging in research and writing which examine the past in order to better understand how to live well in the present and envision wisely for the future. This research focus is rooted in her interest in reconnecting sociology to its classical roots and animated by questions such as “What is a good society?” \nDr. Parham will be speaking about the legacy of the black intellectual tradition in America and how it has drawn inspiration from\, and also contributed greatly to\, the Christian intellectual tradition.
URL:https://cscmovement.org/event/dr-angel-adams-parham-event-on-black-intellectual-tradition/
LOCATION:Sonja Haynes Stone Center\, 150 South Road\, Chapel Hill\, NC\, 27599
ATTACH;FMTTYPE=image/jpeg:https://cscmovement.org/wp-content/uploads/2022/01/NC-Study-Center-Logo.jpeg
END:VEVENT
END:VCALENDAR