BEGIN:VCALENDAR
VERSION:2.0
PRODID:-//Consortium of Christian Study Centers - ECPv6.15.20//NONSGML v1.0//EN
CALSCALE:GREGORIAN
METHOD:PUBLISH
X-ORIGINAL-URL:https://cscmovement.org
X-WR-CALDESC:Events for Consortium of Christian Study Centers
REFRESH-INTERVAL;VALUE=DURATION:PT1H
X-Robots-Tag:noindex
X-PUBLISHED-TTL:PT1H
BEGIN:VTIMEZONE
TZID:America/New_York
BEGIN:DAYLIGHT
TZOFFSETFROM:-0500
TZOFFSETTO:-0400
TZNAME:EDT
DTSTART:20210314T070000
END:DAYLIGHT
BEGIN:STANDARD
TZOFFSETFROM:-0400
TZOFFSETTO:-0500
TZNAME:EST
DTSTART:20211107T060000
END:STANDARD
BEGIN:DAYLIGHT
TZOFFSETFROM:-0500
TZOFFSETTO:-0400
TZNAME:EDT
DTSTART:20220313T070000
END:DAYLIGHT
BEGIN:STANDARD
TZOFFSETFROM:-0400
TZOFFSETTO:-0500
TZNAME:EST
DTSTART:20221106T060000
END:STANDARD
BEGIN:DAYLIGHT
TZOFFSETFROM:-0500
TZOFFSETTO:-0400
TZNAME:EDT
DTSTART:20230312T070000
END:DAYLIGHT
BEGIN:STANDARD
TZOFFSETFROM:-0400
TZOFFSETTO:-0500
TZNAME:EST
DTSTART:20231105T060000
END:STANDARD
END:VTIMEZONE
BEGIN:VEVENT
DTSTART;TZID=America/New_York:20220430T083000
DTEND;TZID=America/New_York:20220430T173000
DTSTAMP:20260421T234129
CREATED:20220317T182852Z
LAST-MODIFIED:20220318T144302Z
UID:10000520-1651307400-1651339800@cscmovement.org
SUMMARY:Art\, the Sacred & the Common Good
DESCRIPTION:Art\, the Sacred\, and the Common Good\, Scala Foundation’s third major conference hosted on the campus of Princeton Theological Seminary\, will bring together scholars\, culture creators\, educators and students to ponder the challenges and opportunities in connecting art\, the sacred and our shared lives and stories. Each session will be a conversation among thinkers\, educators and culture creators that brings new audiences the age-old ideas that coalesced around faith communities and national communities. This event will show how those traditions and ways of living\, although under threat\, are indeed being renewed. Scala will also offer an opportunity to participate in the liturgy of the hours. Our audiences for this event include students\, teachers\, parents\, faith leaders\, and concerned citizens who believe that education for beauty\, wisdom\, and worship are crucial to the foundation of a flourishing society.
URL:https://cscmovement.org/event/art-the-sacred-and-the-common-good/
LOCATION:Scala Foundation\, 64 Mercer St\, Princeton\, NJ\, 08542
CATEGORIES:In Person,Partner Events,Virtual
ATTACH;FMTTYPE=image/png:https://cscmovement.org/wp-content/uploads/2022/02/Scala.png
END:VEVENT
END:VCALENDAR