BEGIN:VCALENDAR
VERSION:2.0
PRODID:-//Consortium of Christian Study Centers - ECPv6.15.20//NONSGML v1.0//EN
CALSCALE:GREGORIAN
METHOD:PUBLISH
X-ORIGINAL-URL:https://cscmovement.org
X-WR-CALDESC:Events for Consortium of Christian Study Centers
REFRESH-INTERVAL;VALUE=DURATION:PT1H
X-Robots-Tag:noindex
X-PUBLISHED-TTL:PT1H
BEGIN:VTIMEZONE
TZID:America/Los_Angeles
BEGIN:DAYLIGHT
TZOFFSETFROM:-0800
TZOFFSETTO:-0700
TZNAME:PDT
DTSTART:20210314T100000
END:DAYLIGHT
BEGIN:STANDARD
TZOFFSETFROM:-0700
TZOFFSETTO:-0800
TZNAME:PST
DTSTART:20211107T090000
END:STANDARD
BEGIN:DAYLIGHT
TZOFFSETFROM:-0800
TZOFFSETTO:-0700
TZNAME:PDT
DTSTART:20220313T100000
END:DAYLIGHT
BEGIN:STANDARD
TZOFFSETFROM:-0700
TZOFFSETTO:-0800
TZNAME:PST
DTSTART:20221106T090000
END:STANDARD
BEGIN:DAYLIGHT
TZOFFSETFROM:-0800
TZOFFSETTO:-0700
TZNAME:PDT
DTSTART:20230312T100000
END:DAYLIGHT
BEGIN:STANDARD
TZOFFSETFROM:-0700
TZOFFSETTO:-0800
TZNAME:PST
DTSTART:20231105T090000
END:STANDARD
END:VTIMEZONE
BEGIN:VEVENT
DTSTART;TZID=America/Los_Angeles:20220716T090000
DTEND;TZID=America/Los_Angeles:20220716T160000
DTSTAMP:20260421T174105
CREATED:20220520T134751Z
LAST-MODIFIED:20220520T134751Z
UID:10000430-1657962000-1657987200@cscmovement.org
SUMMARY:Whole & Reconciled: Seeking the Shalom of Neighborhood & World
DESCRIPTION:Dr. Al Tizon\, missiologist and author of the book\, Whole & Reconciled: Gospel\, Church & Mission in a Fractured World\, will present on the biblical vision of shalom\, and set the table for conversation about how your faith-community might seek the shalom of the neighborhood and beyond. \nIn addition to local church pastoring\, Dr. Tizon has served as an executive director of Christians for Social Action (formerly Evangelicals for Social Action)\, as well as the director of Serve Globally\, the missions arm of the Evangelical Covenant Church.  He has also served on the faculty of North Park Seminary\, Chicago\, and has taught extensively among Christian ministries around the world.
URL:https://cscmovement.org/event/whole-reconciled-seeking-the-shalom-of-neighborhood-world/
LOCATION:San Francisco Christian Center\, 5845 Mission Street\, San Francisco\, California\, 94112
CATEGORIES:In Person,Study Center Events
ATTACH;FMTTYPE=image/jpeg:https://cscmovement.org/wp-content/uploads/2022/02/New-College-Berkeley.jpeg
END:VEVENT
END:VCALENDAR