BEGIN:VCALENDAR
VERSION:2.0
PRODID:-//Consortium of Christian Study Centers - ECPv6.15.20//NONSGML v1.0//EN
CALSCALE:GREGORIAN
METHOD:PUBLISH
X-WR-CALNAME:Consortium of Christian Study Centers
X-ORIGINAL-URL:https://cscmovement.org
X-WR-CALDESC:Events for Consortium of Christian Study Centers
REFRESH-INTERVAL;VALUE=DURATION:PT1H
X-Robots-Tag:noindex
X-PUBLISHED-TTL:PT1H
BEGIN:VTIMEZONE
TZID:America/New_York
BEGIN:DAYLIGHT
TZOFFSETFROM:-0500
TZOFFSETTO:-0400
TZNAME:EDT
DTSTART:20210314T070000
END:DAYLIGHT
BEGIN:STANDARD
TZOFFSETFROM:-0400
TZOFFSETTO:-0500
TZNAME:EST
DTSTART:20211107T060000
END:STANDARD
BEGIN:DAYLIGHT
TZOFFSETFROM:-0500
TZOFFSETTO:-0400
TZNAME:EDT
DTSTART:20220313T070000
END:DAYLIGHT
BEGIN:STANDARD
TZOFFSETFROM:-0400
TZOFFSETTO:-0500
TZNAME:EST
DTSTART:20221106T060000
END:STANDARD
BEGIN:DAYLIGHT
TZOFFSETFROM:-0500
TZOFFSETTO:-0400
TZNAME:EDT
DTSTART:20230312T070000
END:DAYLIGHT
BEGIN:STANDARD
TZOFFSETFROM:-0400
TZOFFSETTO:-0500
TZNAME:EST
DTSTART:20231105T060000
END:STANDARD
END:VTIMEZONE
BEGIN:VEVENT
DTSTART;VALUE=DATE:20220808
DTEND;VALUE=DATE:20220814
DTSTAMP:20260423T085114
CREATED:20220720T143229Z
LAST-MODIFIED:20220720T143229Z
UID:10000568-1659916800-1660435199@cscmovement.org
SUMMARY:Sacred Icon Workshop with Sharon Henthorn-Iwane
DESCRIPTION:Spiritual director Sharon Henthorn-Iwane understands iconography as a sacred art that “makes the invisible visible.” Through this intensive workshop hosted by New College Berkeley\, Sharon will guide you through the traditional process of painting an icon of your own in egg tempera with genuine gold gilding on a gessoed panel. In addition to hands-on art instruction\, Sharon will also provide some teaching on the role of icons in the history of the Church\, and resources for ongoing exploration.
URL:https://cscmovement.org/event/sacred-icon-workshop-with-sharon-henthorn-iwane/
LOCATION:Saint Mary Magdalen Parish\, 2005 Berryman St\, Berkeley\, CA\, 94709
CATEGORIES:In Person,Study Center Events
ATTACH;FMTTYPE=image/jpeg:https://cscmovement.org/wp-content/uploads/2022/02/New-College-Berkeley.jpeg
END:VEVENT
END:VCALENDAR