BEGIN:VCALENDAR
VERSION:2.0
PRODID:-//Consortium of Christian Study Centers - ECPv6.15.20//NONSGML v1.0//EN
CALSCALE:GREGORIAN
METHOD:PUBLISH
X-ORIGINAL-URL:https://cscmovement.org
X-WR-CALDESC:Events for Consortium of Christian Study Centers
REFRESH-INTERVAL;VALUE=DURATION:PT1H
X-Robots-Tag:noindex
X-PUBLISHED-TTL:PT1H
BEGIN:VTIMEZONE
TZID:America/New_York
BEGIN:DAYLIGHT
TZOFFSETFROM:-0500
TZOFFSETTO:-0400
TZNAME:EDT
DTSTART:20210314T070000
END:DAYLIGHT
BEGIN:STANDARD
TZOFFSETFROM:-0400
TZOFFSETTO:-0500
TZNAME:EST
DTSTART:20211107T060000
END:STANDARD
BEGIN:DAYLIGHT
TZOFFSETFROM:-0500
TZOFFSETTO:-0400
TZNAME:EDT
DTSTART:20220313T070000
END:DAYLIGHT
BEGIN:STANDARD
TZOFFSETFROM:-0400
TZOFFSETTO:-0500
TZNAME:EST
DTSTART:20221106T060000
END:STANDARD
BEGIN:DAYLIGHT
TZOFFSETFROM:-0500
TZOFFSETTO:-0400
TZNAME:EDT
DTSTART:20230312T070000
END:DAYLIGHT
BEGIN:STANDARD
TZOFFSETFROM:-0400
TZOFFSETTO:-0500
TZNAME:EST
DTSTART:20231105T060000
END:STANDARD
BEGIN:DAYLIGHT
TZOFFSETFROM:-0500
TZOFFSETTO:-0400
TZNAME:EDT
DTSTART:20240310T070000
END:DAYLIGHT
BEGIN:STANDARD
TZOFFSETFROM:-0400
TZOFFSETTO:-0500
TZNAME:EST
DTSTART:20241103T060000
END:STANDARD
END:VTIMEZONE
BEGIN:VEVENT
DTSTART;TZID=America/New_York:20230609T120000
DTEND;TZID=America/New_York:20230609T130000
DTSTAMP:20260423T115213
CREATED:20230530T182538Z
LAST-MODIFIED:20230530T182538Z
UID:10000759-1686312000-1686315600@cscmovement.org
SUMMARY:Compassion First: A Sensible Approach to America's Homeless Crisis
DESCRIPTION:This Friday Forum will explore a new approach to the homeless crisis that acknowledges the inherent dignity of those suffering with homlessness and that focuses on restoration\, recovery\, and self-sufficiency. Speakers include Steven J. Buri\, Robert Marbut and Wesley J. Smith\, all of the Discovery Institute.
URL:https://cscmovement.org/event/compassion-first-a-sensible-approach-to-americas-homeless-crisis/
LOCATION:Rayburn House Office Building\, 45 Independence Ave SW\, Washington\, DC\, 20515
CATEGORIES:In Person,Partner Events
ATTACH;FMTTYPE=image/png:https://cscmovement.org/wp-content/uploads/2022/02/faith-and-law-logo-seal-dark-Lauren-Noyes.png
END:VEVENT
BEGIN:VEVENT
DTSTART;TZID=America/New_York:20230421T120000
DTEND;TZID=America/New_York:20230421T130000
DTSTAMP:20260423T115213
CREATED:20230404T164523Z
LAST-MODIFIED:20230404T164523Z
UID:10000669-1682078400-1682082000@cscmovement.org
SUMMARY:No Coup\, No Problem? Civil-Military Relations in an Age of Polarization
DESCRIPTION:Peter Feaver\, Professor of Political Science at Duke University\, joins Faith and Law for a Friday Forum on the best practices in civilian control of the military in light of recent controversies and ongoing political divisions.
URL:https://cscmovement.org/event/no-coup-no-problem-civil-military-relations-in-an-age-of-polarization/
LOCATION:Rayburn House Office Building\, 45 Independence Ave SW\, Washington\, DC\, 20515
CATEGORIES:In Person,Partner Events
ATTACH;FMTTYPE=image/png:https://cscmovement.org/wp-content/uploads/2022/02/faith-and-law-logo-seal-dark-Lauren-Noyes.png
END:VEVENT
BEGIN:VEVENT
DTSTART;TZID=America/New_York:20220916T120000
DTEND;TZID=America/New_York:20220916T130000
DTSTAMP:20260423T115213
CREATED:20220905T193138Z
LAST-MODIFIED:20220905T193138Z
UID:10000584-1663329600-1663333200@cscmovement.org
SUMMARY:Our Civilizational Moment
DESCRIPTION:Os Guinness joins Faith and Law to discuss the crisis of the West\, the war of the worlds\, and the faith required for our time.
URL:https://cscmovement.org/event/our-civilizational-moment/
LOCATION:Rayburn House Office Building\, 45 Independence Ave SW\, Washington\, DC\, 20515
CATEGORIES:In Person,Partner Events
ATTACH;FMTTYPE=image/png:https://cscmovement.org/wp-content/uploads/2022/02/faith-and-law-logo-seal-dark-Lauren-Noyes.png
END:VEVENT
BEGIN:VEVENT
DTSTART;TZID=America/New_York:20220715T120000
DTEND;TZID=America/New_York:20220715T130000
DTSTAMP:20260423T115213
CREATED:20220630T204544Z
LAST-MODIFIED:20220630T205349Z
UID:10000438-1657886400-1657890000@cscmovement.org
SUMMARY:Child Care: Should the Government Pay For It?
DESCRIPTION:The Build Back Better Act proposed massive federal subsidies for child care and a new free UPK program—with requirements that excluded many faith-based providers and schools. The requirements can be made welcoming to churches and other faith-based organizations. But shouldn’t they be serving families on their own\, especially the neediest? When and how—if ever—should faith-based organizations accept government support to serve their neighbors? Why should Christians support (rightly designed) federal subsidies for child care and preK? \nJoin Faith & Law for an event featuring Stanley Carlson-Thies and Stephanie Summers.
URL:https://cscmovement.org/event/child-care-should-the-government-pay-for-it/
LOCATION:Rayburn House Office Building\, 45 Independence Ave SW\, Washington\, DC\, 20515
CATEGORIES:In Person,Partner Events
ATTACH;FMTTYPE=image/png:https://cscmovement.org/wp-content/uploads/2022/02/faith-and-law-logo-seal-dark-Lauren-Noyes.png
END:VEVENT
BEGIN:VEVENT
DTSTART;TZID=America/New_York:20220325T120000
DTEND;TZID=America/New_York:20220325T130000
DTSTAMP:20260423T115213
CREATED:20220317T181158Z
LAST-MODIFIED:20220318T150620Z
UID:10000519-1648209600-1648213200@cscmovement.org
SUMMARY:The Imago Dei & Culture
DESCRIPTION:The central question of this cultural moment\, the one behind the most difficult issues we face as a society\, is what does it mean to be human. Who are we? What is our value? What is our responsibility to one another? The vision of humanity at the heart of the Christian story is true and good\, the most compelling account of who we are\, and the best opportunity for Christians to offer life and hope to individuals\, communities\, and cultures. \nJoin Faith & Law as John Stonestreet\, president of the Colson Center lectures on biblical worldview. \nJohn Stonestreet serves as president of the Colson Center. He’s a sought-after author and speaker on areas of faith and culture\, theology\, worldview\, education and apologetics. John is the daily voice of BreakPoint\, the nationally syndicated commentary on the culture founded by the late Chuck Colson. He is also the voice of The Point\, a daily one-minute feature on worldview\, apologetics\, and cultural issues. Before coming to the Colson Center in 2010\, John served in various leadership capacities with Summit Ministries and was on the biblical studies faculty at Bryan College (TN). John has co-authored five books: A Practical Guide to Culture\, A Student’s Guide to Culture\, Restoring All Things\, Same-Sex Marriage\, and Making Sense of Your World: A Biblical Worldview. John holds degrees from Trinity Evangelical Divinity School (IL) and Bryan College (TN). He and his wife\, Sarah\, have four children and live in Colorado Springs\, CO. Connect with John at BreakPoint.org\, or follow him on Twitter (@jbstonestreet).
URL:https://cscmovement.org/event/the-imago-dei-culture/
LOCATION:Rayburn House Office Building\, 45 Independence Ave SW\, Washington\, DC\, 20515
CATEGORIES:In Person,Partner Events
ATTACH;FMTTYPE=image/png:https://cscmovement.org/wp-content/uploads/2022/02/faith-and-law-logo-seal-dark-Lauren-Noyes.png
END:VEVENT
END:VCALENDAR