BEGIN:VCALENDAR
VERSION:2.0
PRODID:-//Consortium of Christian Study Centers - ECPv6.15.20//NONSGML v1.0//EN
CALSCALE:GREGORIAN
METHOD:PUBLISH
X-WR-CALNAME:Consortium of Christian Study Centers
X-ORIGINAL-URL:https://cscmovement.org
X-WR-CALDESC:Events for Consortium of Christian Study Centers
REFRESH-INTERVAL;VALUE=DURATION:PT1H
X-Robots-Tag:noindex
X-PUBLISHED-TTL:PT1H
BEGIN:VTIMEZONE
TZID:America/New_York
BEGIN:DAYLIGHT
TZOFFSETFROM:-0500
TZOFFSETTO:-0400
TZNAME:EDT
DTSTART:20230312T070000
END:DAYLIGHT
BEGIN:STANDARD
TZOFFSETFROM:-0400
TZOFFSETTO:-0500
TZNAME:EST
DTSTART:20231105T060000
END:STANDARD
BEGIN:DAYLIGHT
TZOFFSETFROM:-0500
TZOFFSETTO:-0400
TZNAME:EDT
DTSTART:20240310T070000
END:DAYLIGHT
BEGIN:STANDARD
TZOFFSETFROM:-0400
TZOFFSETTO:-0500
TZNAME:EST
DTSTART:20241103T060000
END:STANDARD
BEGIN:DAYLIGHT
TZOFFSETFROM:-0500
TZOFFSETTO:-0400
TZNAME:EDT
DTSTART:20250309T070000
END:DAYLIGHT
BEGIN:STANDARD
TZOFFSETFROM:-0400
TZOFFSETTO:-0500
TZNAME:EST
DTSTART:20251102T060000
END:STANDARD
END:VTIMEZONE
BEGIN:VEVENT
DTSTART;TZID=America/New_York:20240615T110000
DTEND;TZID=America/New_York:20240615T150000
DTSTAMP:20260423T105507
CREATED:20240606T183425Z
LAST-MODIFIED:20240606T183425Z
UID:10001126-1718449200-1718463600@cscmovement.org
SUMMARY:Behold\, I Make All Things New
DESCRIPTION:This event will promote the renewal of culture and tradition! Join Scala Foundation for a thought-provoking discussion with Sir James MacMillan\, Margarita Mooney Clayton\, and Peter Carter on how noble and accessible sacred music can once again shape all popular culture.
URL:https://cscmovement.org/event/behold-i-make-all-things-new/
LOCATION:Princeton Theological Seminary Chapel\, 25 Library Place\, Princeton\, NJ\, 08540
CATEGORIES:In Person,Partner Events
ATTACH;FMTTYPE=image/png:https://cscmovement.org/wp-content/uploads/2022/02/Scala.png
END:VEVENT
END:VCALENDAR