BEGIN:VCALENDAR
VERSION:2.0
PRODID:-//Consortium of Christian Study Centers - ECPv6.15.20//NONSGML v1.0//EN
CALSCALE:GREGORIAN
METHOD:PUBLISH
X-WR-CALNAME:Consortium of Christian Study Centers
X-ORIGINAL-URL:https://cscmovement.org
X-WR-CALDESC:Events for Consortium of Christian Study Centers
REFRESH-INTERVAL;VALUE=DURATION:PT1H
X-Robots-Tag:noindex
X-PUBLISHED-TTL:PT1H
BEGIN:VTIMEZONE
TZID:America/New_York
BEGIN:DAYLIGHT
TZOFFSETFROM:-0500
TZOFFSETTO:-0400
TZNAME:EDT
DTSTART:20210314T070000
END:DAYLIGHT
BEGIN:STANDARD
TZOFFSETFROM:-0400
TZOFFSETTO:-0500
TZNAME:EST
DTSTART:20211107T060000
END:STANDARD
BEGIN:DAYLIGHT
TZOFFSETFROM:-0500
TZOFFSETTO:-0400
TZNAME:EDT
DTSTART:20220313T070000
END:DAYLIGHT
BEGIN:STANDARD
TZOFFSETFROM:-0400
TZOFFSETTO:-0500
TZNAME:EST
DTSTART:20221106T060000
END:STANDARD
BEGIN:DAYLIGHT
TZOFFSETFROM:-0500
TZOFFSETTO:-0400
TZNAME:EDT
DTSTART:20230312T070000
END:DAYLIGHT
BEGIN:STANDARD
TZOFFSETFROM:-0400
TZOFFSETTO:-0500
TZNAME:EST
DTSTART:20231105T060000
END:STANDARD
BEGIN:DAYLIGHT
TZOFFSETFROM:-0500
TZOFFSETTO:-0400
TZNAME:EDT
DTSTART:20240310T070000
END:DAYLIGHT
BEGIN:STANDARD
TZOFFSETFROM:-0400
TZOFFSETTO:-0500
TZNAME:EST
DTSTART:20241103T060000
END:STANDARD
END:VTIMEZONE
BEGIN:VEVENT
DTSTART;TZID=America/New_York:20231214T183000
DTEND;TZID=America/New_York:20231214T213000
DTSTAMP:20260425T135635
CREATED:20231205T173016Z
LAST-MODIFIED:20231205T173016Z
UID:10000994-1702578600-1702589400@cscmovement.org
SUMMARY:Smartphones: A Path to Human Flourishing or Collapsing?
DESCRIPTION:Do we need to get off our phones to be happy? Beatrice Institute hosts four panelists\, Grant Martsolf\, Marta Peciña\, Elizabeth Cochran\, and Cecile Ladouceur\, to investigate how smartphones have created new challenges and opportunities for human flourishing.
URL:https://cscmovement.org/event/smartphones-a-path-to-human-flourishing-or-collapsing/
LOCATION:Pittsburgh Theological Seminary\, 616 North Highland Ave\, Pittsburgh\, PA\, 15206
CATEGORIES:In Person,Study Center Events
ATTACH;FMTTYPE=image/png:https://cscmovement.org/wp-content/uploads/2022/08/Beatrice-Institute-Logo.png
END:VEVENT
BEGIN:VEVENT
DTSTART;TZID=America/New_York:20221215T183000
DTEND;TZID=America/New_York:20221215T213000
DTSTAMP:20260425T135635
CREATED:20221206T145322Z
LAST-MODIFIED:20221206T145323Z
UID:10000612-1671129000-1671139800@cscmovement.org
SUMMARY:Beatrice Institute Salon
DESCRIPTION:The Beatrice Institute Salon will be an evening of elegant conversation and elevated conviviality. Salons have a long history as a refined format for the exchange of ideas. Unlike an academic discourse or lecture\, the main event of a salon is the conversation generated by a single theme and animated by the attendees. Usually turning around a work of art or a single idea\, salons cultivate intellectual friendship in an atmosphere equal parts leisure and sharp thinking. This year\, four panelists will ignite the conversation with reflections on the merits and demerits of Terrence Malick’s 2019 film\, A Hidden Life. Is this film a glorious affirmation of the secret life of faith? Or is it a visionless affirmation of pseudo-Gnosticism? What do we make of Terrence Malick’s spiritual vision? \nFeaturing insights from Prof. Ryan McDermott (Pitt\, English)\, Dr. Elise Lonich Ryan (Pitt\, English)\, Dr. Jake Grefenstette (St. Vincent\, Theology)\, and Russell Lucas\, Esq. (Andrews and Price).
URL:https://cscmovement.org/event/beatrice-institute-salon/
LOCATION:Pittsburgh Theological Seminary\, 616 North Highland Ave\, Pittsburgh\, PA\, 15206
CATEGORIES:In Person,Study Center Events
ATTACH;FMTTYPE=image/png:https://cscmovement.org/wp-content/uploads/2022/08/Beatrice-Institute-Logo.png
END:VEVENT
END:VCALENDAR