BEGIN:VCALENDAR
VERSION:2.0
PRODID:-//Consortium of Christian Study Centers - ECPv6.15.20//NONSGML v1.0//EN
CALSCALE:GREGORIAN
METHOD:PUBLISH
X-ORIGINAL-URL:https://cscmovement.org
X-WR-CALDESC:Events for Consortium of Christian Study Centers
REFRESH-INTERVAL;VALUE=DURATION:PT1H
X-Robots-Tag:noindex
X-PUBLISHED-TTL:PT1H
BEGIN:VTIMEZONE
TZID:America/Los_Angeles
BEGIN:DAYLIGHT
TZOFFSETFROM:-0800
TZOFFSETTO:-0700
TZNAME:PDT
DTSTART:20210314T100000
END:DAYLIGHT
BEGIN:STANDARD
TZOFFSETFROM:-0700
TZOFFSETTO:-0800
TZNAME:PST
DTSTART:20211107T090000
END:STANDARD
BEGIN:DAYLIGHT
TZOFFSETFROM:-0800
TZOFFSETTO:-0700
TZNAME:PDT
DTSTART:20220313T100000
END:DAYLIGHT
BEGIN:STANDARD
TZOFFSETFROM:-0700
TZOFFSETTO:-0800
TZNAME:PST
DTSTART:20221106T090000
END:STANDARD
BEGIN:DAYLIGHT
TZOFFSETFROM:-0800
TZOFFSETTO:-0700
TZNAME:PDT
DTSTART:20230312T100000
END:DAYLIGHT
BEGIN:STANDARD
TZOFFSETFROM:-0700
TZOFFSETTO:-0800
TZNAME:PST
DTSTART:20231105T090000
END:STANDARD
END:VTIMEZONE
BEGIN:VEVENT
DTSTART;TZID=America/Los_Angeles:20220331T183000
DTEND;TZID=America/Los_Angeles:20220331T203000
DTSTAMP:20260423T054510
CREATED:20220207T170148Z
LAST-MODIFIED:20220318T150119Z
UID:10000477-1648751400-1648758600@cscmovement.org
SUMMARY:An Evening With Andy Crouch: Reclaiming Relationships In a Technological World
DESCRIPTION:Join New College Berkeley for an Evening with Andy Crouch. \nWe need wisdom\, grace\, and peace to navigate the current challenges of technological change\, disrupted relationships\, and broken communities. Author\, speaker\, and Praxis partner Andy Crouch will share his insights on how to create meaningful connections and live in a way that engages our full humanity in this age of unprecedented anxiety and isolation. \nThrough a probing interview\, small group discussion\, and Q&A with Andy\, we’ll discover how to cultivate flourishing community and use technology to pursue the hope of redemption. Join us to refresh\, renew\, and re-engage.
URL:https://cscmovement.org/event/event-3/
LOCATION:Peninsula Covenant Church\, 3560 Farm Hill Boulevard\, Redwood City\, CA\, 94061
CATEGORIES:In Person,Study Center Events
ATTACH;FMTTYPE=image/jpeg:https://cscmovement.org/wp-content/uploads/2022/02/New-College-Berkeley.jpeg
END:VEVENT
END:VCALENDAR