BEGIN:VCALENDAR
VERSION:2.0
PRODID:-//Consortium of Christian Study Centers - ECPv6.15.20//NONSGML v1.0//EN
CALSCALE:GREGORIAN
METHOD:PUBLISH
X-WR-CALNAME:Consortium of Christian Study Centers
X-ORIGINAL-URL:https://cscmovement.org
X-WR-CALDESC:Events for Consortium of Christian Study Centers
REFRESH-INTERVAL;VALUE=DURATION:PT1H
X-Robots-Tag:noindex
X-PUBLISHED-TTL:PT1H
BEGIN:VTIMEZONE
TZID:America/New_York
BEGIN:DAYLIGHT
TZOFFSETFROM:-0500
TZOFFSETTO:-0400
TZNAME:EDT
DTSTART:20230312T070000
END:DAYLIGHT
BEGIN:STANDARD
TZOFFSETFROM:-0400
TZOFFSETTO:-0500
TZNAME:EST
DTSTART:20231105T060000
END:STANDARD
BEGIN:DAYLIGHT
TZOFFSETFROM:-0500
TZOFFSETTO:-0400
TZNAME:EDT
DTSTART:20240310T070000
END:DAYLIGHT
BEGIN:STANDARD
TZOFFSETFROM:-0400
TZOFFSETTO:-0500
TZNAME:EST
DTSTART:20241103T060000
END:STANDARD
BEGIN:DAYLIGHT
TZOFFSETFROM:-0500
TZOFFSETTO:-0400
TZNAME:EDT
DTSTART:20250309T070000
END:DAYLIGHT
BEGIN:STANDARD
TZOFFSETFROM:-0400
TZOFFSETTO:-0500
TZNAME:EST
DTSTART:20251102T060000
END:STANDARD
END:VTIMEZONE
BEGIN:VEVENT
DTSTART;TZID=America/New_York:20240215T193000
DTEND;TZID=America/New_York:20240215T210000
DTSTAMP:20260423T142645
CREATED:20240207T214504Z
LAST-MODIFIED:20240207T214504Z
UID:10001009-1708025400-1708030800@cscmovement.org
SUMMARY:C.S. Lewis Onstage: Further Up & Further In
DESCRIPTION:Join the Center for Christian Study for Further Up & Further In! Using Lewis’ own words\, this play will explore what convinced Lewis of the divinity of Christ\, how Hitler influenced the writing of The Screwtape Letters\, and how his profound insights on prayer\, heaven and the Second Coming of Christ influenced The Chronicles of Narnia.
URL:https://cscmovement.org/event/c-s-lewis-onstage-further-up-further-in/
LOCATION:Paramount Theater\, 215 E Main St\, Charlottesville\, VA\, 22902
CATEGORIES:In Person,Study Center Events
ATTACH;FMTTYPE=image/png:https://cscmovement.org/wp-content/uploads/2023/10/CCS-Logo.png
END:VEVENT
END:VCALENDAR