BEGIN:VCALENDAR
VERSION:2.0
PRODID:-//Consortium of Christian Study Centers - ECPv6.15.20//NONSGML v1.0//EN
CALSCALE:GREGORIAN
METHOD:PUBLISH
X-ORIGINAL-URL:https://cscmovement.org
X-WR-CALDESC:Events for Consortium of Christian Study Centers
REFRESH-INTERVAL;VALUE=DURATION:PT1H
X-Robots-Tag:noindex
X-PUBLISHED-TTL:PT1H
BEGIN:VTIMEZONE
TZID:America/New_York
BEGIN:DAYLIGHT
TZOFFSETFROM:-0500
TZOFFSETTO:-0400
TZNAME:EDT
DTSTART:20210314T070000
END:DAYLIGHT
BEGIN:STANDARD
TZOFFSETFROM:-0400
TZOFFSETTO:-0500
TZNAME:EST
DTSTART:20211107T060000
END:STANDARD
BEGIN:DAYLIGHT
TZOFFSETFROM:-0500
TZOFFSETTO:-0400
TZNAME:EDT
DTSTART:20220313T070000
END:DAYLIGHT
BEGIN:STANDARD
TZOFFSETFROM:-0400
TZOFFSETTO:-0500
TZNAME:EST
DTSTART:20221106T060000
END:STANDARD
BEGIN:DAYLIGHT
TZOFFSETFROM:-0500
TZOFFSETTO:-0400
TZNAME:EDT
DTSTART:20230312T070000
END:DAYLIGHT
BEGIN:STANDARD
TZOFFSETFROM:-0400
TZOFFSETTO:-0500
TZNAME:EST
DTSTART:20231105T060000
END:STANDARD
BEGIN:DAYLIGHT
TZOFFSETFROM:-0500
TZOFFSETTO:-0400
TZNAME:EDT
DTSTART:20240310T070000
END:DAYLIGHT
BEGIN:STANDARD
TZOFFSETFROM:-0400
TZOFFSETTO:-0500
TZNAME:EST
DTSTART:20241103T060000
END:STANDARD
BEGIN:DAYLIGHT
TZOFFSETFROM:-0500
TZOFFSETTO:-0400
TZNAME:EDT
DTSTART:20250309T070000
END:DAYLIGHT
BEGIN:STANDARD
TZOFFSETFROM:-0400
TZOFFSETTO:-0500
TZNAME:EST
DTSTART:20251102T060000
END:STANDARD
END:VTIMEZONE
BEGIN:VEVENT
DTSTART;TZID=America/New_York:20240421T143000
DTEND;TZID=America/New_York:20240421T163000
DTSTAMP:20260421T193939
CREATED:20240207T220440Z
LAST-MODIFIED:20240207T220440Z
UID:10001075-1713709800-1713717000@cscmovement.org
SUMMARY:2024 Scoper Lecture
DESCRIPTION:The 2024 Scoper Lecture in Christian Thought will be delivered by David Brooks on the topic\, “Know Better: Deepening the Bonds of Communal Life\,” drawing on the themes of his new book\, How to Know a Person: The Art of Seeing Others Deeply and Being Deeply Seen.
URL:https://cscmovement.org/event/2024-scoper-lecture/
LOCATION:Old Cabell Hall\, University of Virginia\, Old Cabell Hall\, Charlottesville\, Virginia\, 22903
CATEGORIES:In Person,Study Center Events
ATTACH;FMTTYPE=image/png:https://cscmovement.org/wp-content/uploads/2023/10/Theological-Horizons-Logo.png
END:VEVENT
BEGIN:VEVENT
DTSTART;TZID=America/New_York:20231023T200000
DTEND;TZID=America/New_York:20231023T213000
DTSTAMP:20260421T193939
CREATED:20230906T163538Z
LAST-MODIFIED:20230906T163538Z
UID:10000955-1698091200-1698096600@cscmovement.org
SUMMARY:How Far to the Promised Land
DESCRIPTION:Join the Center for Christian Study for an evening with author Esau McCaulley as he speaks about his upcoming memoir How Far to the Promised Land: One Black Family’s Story of Hope and Survival in the American South.
URL:https://cscmovement.org/event/how-far-to-the-promised-land/
LOCATION:Old Cabell Hall\, University of Virginia\, Old Cabell Hall\, Charlottesville\, Virginia\, 22903
CATEGORIES:In Person,Study Center Events
ATTACH;FMTTYPE=image/jpeg:https://cscmovement.org/wp-content/uploads/2022/06/CSCCVilleLogo.jpeg
END:VEVENT
BEGIN:VEVENT
DTSTART;TZID=America/New_York:20220403T153000
DTEND;TZID=America/New_York:20220403T170000
DTSTAMP:20260421T193939
CREATED:20220310T162335Z
LAST-MODIFIED:20220318T145650Z
UID:10000479-1648999800-1649005200@cscmovement.org
SUMMARY:2022 Inaugural Scoper Lecture in Christian Thought
DESCRIPTION:UNFINISHED: The Wisdom of the Generative Self \nThe Scoper Lecture in Christian Thought is an annual series\, hosted by Theological Horizons\, building off the Capps Lectures that brings eminent speakers to the university to deliver public lectures exploring the breadth of Christian expression in the arenas of scholarship\, science and medicine\, the arts\, and culture. The series is generously funded by Nancy and Stephen Scoper\, M.D.\, through their gift to the University of Virginia\, designated to Theological Horizons.
URL:https://cscmovement.org/event/2022-inaugural-scoper-lecture-in-christian-thought/
LOCATION:Old Cabell Hall\, University of Virginia\, Old Cabell Hall\, Charlottesville\, Virginia\, 22903
CATEGORIES:In Person,Study Center Events
ATTACH;FMTTYPE=image/png:https://cscmovement.org/wp-content/uploads/2022/03/Theological-Horizons.png
END:VEVENT
END:VCALENDAR