BEGIN:VCALENDAR
VERSION:2.0
PRODID:-//Consortium of Christian Study Centers - ECPv6.15.20//NONSGML v1.0//EN
CALSCALE:GREGORIAN
METHOD:PUBLISH
X-WR-CALNAME:Consortium of Christian Study Centers
X-ORIGINAL-URL:https://cscmovement.org
X-WR-CALDESC:Events for Consortium of Christian Study Centers
REFRESH-INTERVAL;VALUE=DURATION:PT1H
X-Robots-Tag:noindex
X-PUBLISHED-TTL:PT1H
BEGIN:VTIMEZONE
TZID:America/New_York
BEGIN:DAYLIGHT
TZOFFSETFROM:-0500
TZOFFSETTO:-0400
TZNAME:EDT
DTSTART:20230312T070000
END:DAYLIGHT
BEGIN:STANDARD
TZOFFSETFROM:-0400
TZOFFSETTO:-0500
TZNAME:EST
DTSTART:20231105T060000
END:STANDARD
BEGIN:DAYLIGHT
TZOFFSETFROM:-0500
TZOFFSETTO:-0400
TZNAME:EDT
DTSTART:20240310T070000
END:DAYLIGHT
BEGIN:STANDARD
TZOFFSETFROM:-0400
TZOFFSETTO:-0500
TZNAME:EST
DTSTART:20241103T060000
END:STANDARD
BEGIN:DAYLIGHT
TZOFFSETFROM:-0500
TZOFFSETTO:-0400
TZNAME:EDT
DTSTART:20250309T070000
END:DAYLIGHT
BEGIN:STANDARD
TZOFFSETFROM:-0400
TZOFFSETTO:-0500
TZNAME:EST
DTSTART:20251102T060000
END:STANDARD
END:VTIMEZONE
BEGIN:VEVENT
DTSTART;TZID=America/New_York:20240221T173000
DTEND;TZID=America/New_York:20240221T190000
DTSTAMP:20260425T074949
CREATED:20240207T220812Z
LAST-MODIFIED:20240207T220812Z
UID:10001076-1708536600-1708542000@cscmovement.org
SUMMARY:Happier Doctor – Healthier Patient?  A Conversation About Happiness\, Vocation & Avoiding Burnout
DESCRIPTION:At this Veritas Forum event\, Dean Bernard S. Chang of Harvard Medical School will interview social scientist Arthur Brooks of the Harvard Business School and the Harvard Kennedy School about his empirical research on seeing happiness as a direction\, exploring a transcendent perspective as a pillar of a happier life\, and viewing work as “love made visible”.
URL:https://cscmovement.org/event/happier-doctor-healthier-patient-a-conversation-about-happiness-vocation-avoiding-burnout/
LOCATION:New Research Building Amphitheater\, 77 Avenue Louis Pasteur\, Boston\, MA\, 02115
CATEGORIES:In Person,Partner Events
ATTACH;FMTTYPE=image/jpeg:https://cscmovement.org/wp-content/uploads/2022/02/Veritas-Forum-scaled.jpeg
END:VEVENT
END:VCALENDAR