BEGIN:VCALENDAR
VERSION:2.0
PRODID:-//Consortium of Christian Study Centers - ECPv6.15.20//NONSGML v1.0//EN
CALSCALE:GREGORIAN
METHOD:PUBLISH
X-WR-CALNAME:Consortium of Christian Study Centers
X-ORIGINAL-URL:https://cscmovement.org
X-WR-CALDESC:Events for Consortium of Christian Study Centers
REFRESH-INTERVAL;VALUE=DURATION:PT1H
X-Robots-Tag:noindex
X-PUBLISHED-TTL:PT1H
BEGIN:VTIMEZONE
TZID:America/New_York
BEGIN:DAYLIGHT
TZOFFSETFROM:-0500
TZOFFSETTO:-0400
TZNAME:EDT
DTSTART:20210314T070000
END:DAYLIGHT
BEGIN:STANDARD
TZOFFSETFROM:-0400
TZOFFSETTO:-0500
TZNAME:EST
DTSTART:20211107T060000
END:STANDARD
BEGIN:DAYLIGHT
TZOFFSETFROM:-0500
TZOFFSETTO:-0400
TZNAME:EDT
DTSTART:20220313T070000
END:DAYLIGHT
BEGIN:STANDARD
TZOFFSETFROM:-0400
TZOFFSETTO:-0500
TZNAME:EST
DTSTART:20221106T060000
END:STANDARD
BEGIN:DAYLIGHT
TZOFFSETFROM:-0500
TZOFFSETTO:-0400
TZNAME:EDT
DTSTART:20230312T070000
END:DAYLIGHT
BEGIN:STANDARD
TZOFFSETFROM:-0400
TZOFFSETTO:-0500
TZNAME:EST
DTSTART:20231105T060000
END:STANDARD
END:VTIMEZONE
BEGIN:VEVENT
DTSTART;TZID=America/New_York:20220919T193000
DTEND;TZID=America/New_York:20220919T210000
DTSTAMP:20260423T131955
CREATED:20220905T192036Z
LAST-MODIFIED:20220905T192036Z
UID:10000457-1663615800-1663621200@cscmovement.org
SUMMARY:Stage Play: The Most Reluctant Convert
DESCRIPTION:C.S. Lewis is going to Virginia Tech! Using the author and apologist’s own words\, award-winning actor Max McLean brings C.S. Lewis to life on stage\, taking on us on his extraordinary journey from hard-boiled atheist to “the most reluctant convert in all England.”
URL:https://cscmovement.org/event/stage-play-the-most-reluctant-convert/
LOCATION:Moss Arts Center\, 190 Alumni Mall\, Blacksburg\, VA\, 24061
CATEGORIES:In Person,Study Center Events
ATTACH;FMTTYPE=image/png:https://cscmovement.org/wp-content/uploads/2022/01/bsc-logo-Mike-Weaver.png
END:VEVENT
END:VCALENDAR