BEGIN:VCALENDAR
VERSION:2.0
PRODID:-//Consortium of Christian Study Centers - ECPv6.15.20//NONSGML v1.0//EN
CALSCALE:GREGORIAN
METHOD:PUBLISH
X-ORIGINAL-URL:https://cscmovement.org
X-WR-CALDESC:Events for Consortium of Christian Study Centers
REFRESH-INTERVAL;VALUE=DURATION:PT1H
X-Robots-Tag:noindex
X-PUBLISHED-TTL:PT1H
BEGIN:VTIMEZONE
TZID:America/Chicago
BEGIN:DAYLIGHT
TZOFFSETFROM:-0600
TZOFFSETTO:-0500
TZNAME:CDT
DTSTART:20210314T080000
END:DAYLIGHT
BEGIN:STANDARD
TZOFFSETFROM:-0500
TZOFFSETTO:-0600
TZNAME:CST
DTSTART:20211107T070000
END:STANDARD
BEGIN:DAYLIGHT
TZOFFSETFROM:-0600
TZOFFSETTO:-0500
TZNAME:CDT
DTSTART:20220313T080000
END:DAYLIGHT
BEGIN:STANDARD
TZOFFSETFROM:-0500
TZOFFSETTO:-0600
TZNAME:CST
DTSTART:20221106T070000
END:STANDARD
BEGIN:DAYLIGHT
TZOFFSETFROM:-0600
TZOFFSETTO:-0500
TZNAME:CDT
DTSTART:20230312T080000
END:DAYLIGHT
BEGIN:STANDARD
TZOFFSETFROM:-0500
TZOFFSETTO:-0600
TZNAME:CST
DTSTART:20231105T070000
END:STANDARD
END:VTIMEZONE
BEGIN:VEVENT
DTSTART;TZID=America/Chicago:20220630T163000
DTEND;TZID=America/Chicago:20220630T180000
DTSTAMP:20260421T223941
CREATED:20220520T140117Z
LAST-MODIFIED:20220520T140117Z
UID:10000557-1656606600-1656612000@cscmovement.org
SUMMARY:Headlines on the Terrace (HOT)
DESCRIPTION:Headlines on the Terrace (HOT) is a casual gathering for those who want to wade into deep topics in the news\, buoyed by good company\, great conversation\, and sharp Christian thinking on the cool side of Lake Mendota.  \nTheologian Karl Barth suggested that a Christian should be found with a newspaper in one hand and a Bible in the other. As we enjoy refreshments on the Memorial Union Terrace\, we will freely converse about the news\, ask questions\, and consider different angles of our reading in light of a Christian perspective. Friends of friends are welcome to join us! \nEach of the conversations will focus on a news article\, to which you will receive a link a few days before we meet. Drop-ins are welcome\, and we will welcome you regardless if you complete the reading!
URL:https://cscmovement.org/event/headlines-on-the-terrace-hot/2022-06-30/
LOCATION:Memorial Union Terrace\, 800 Langdon Street\, Madison\, Wisconsin\, 53703
CATEGORIES:In Person,Study Center Events
ATTACH;FMTTYPE=image/png:https://cscmovement.org/wp-content/uploads/2022/02/UpperHouse.png
END:VEVENT
BEGIN:VEVENT
DTSTART;TZID=America/Chicago:20220623T163000
DTEND;TZID=America/Chicago:20220623T180000
DTSTAMP:20260421T223941
CREATED:20220520T140117Z
LAST-MODIFIED:20220520T140117Z
UID:10000556-1656001800-1656007200@cscmovement.org
SUMMARY:Headlines on the Terrace (HOT)
DESCRIPTION:Headlines on the Terrace (HOT) is a casual gathering for those who want to wade into deep topics in the news\, buoyed by good company\, great conversation\, and sharp Christian thinking on the cool side of Lake Mendota.  \nTheologian Karl Barth suggested that a Christian should be found with a newspaper in one hand and a Bible in the other. As we enjoy refreshments on the Memorial Union Terrace\, we will freely converse about the news\, ask questions\, and consider different angles of our reading in light of a Christian perspective. Friends of friends are welcome to join us! \nEach of the conversations will focus on a news article\, to which you will receive a link a few days before we meet. Drop-ins are welcome\, and we will welcome you regardless if you complete the reading!
URL:https://cscmovement.org/event/headlines-on-the-terrace-hot/2022-06-23/
LOCATION:Memorial Union Terrace\, 800 Langdon Street\, Madison\, Wisconsin\, 53703
CATEGORIES:In Person,Study Center Events
ATTACH;FMTTYPE=image/png:https://cscmovement.org/wp-content/uploads/2022/02/UpperHouse.png
END:VEVENT
BEGIN:VEVENT
DTSTART;TZID=America/Chicago:20220616T163000
DTEND;TZID=America/Chicago:20220616T180000
DTSTAMP:20260421T223941
CREATED:20220520T140117Z
LAST-MODIFIED:20220520T140117Z
UID:10000555-1655397000-1655402400@cscmovement.org
SUMMARY:Headlines on the Terrace (HOT)
DESCRIPTION:Headlines on the Terrace (HOT) is a casual gathering for those who want to wade into deep topics in the news\, buoyed by good company\, great conversation\, and sharp Christian thinking on the cool side of Lake Mendota.  \nTheologian Karl Barth suggested that a Christian should be found with a newspaper in one hand and a Bible in the other. As we enjoy refreshments on the Memorial Union Terrace\, we will freely converse about the news\, ask questions\, and consider different angles of our reading in light of a Christian perspective. Friends of friends are welcome to join us! \nEach of the conversations will focus on a news article\, to which you will receive a link a few days before we meet. Drop-ins are welcome\, and we will welcome you regardless if you complete the reading!
URL:https://cscmovement.org/event/headlines-on-the-terrace-hot/2022-06-16/
LOCATION:Memorial Union Terrace\, 800 Langdon Street\, Madison\, Wisconsin\, 53703
CATEGORIES:In Person,Study Center Events
ATTACH;FMTTYPE=image/png:https://cscmovement.org/wp-content/uploads/2022/02/UpperHouse.png
END:VEVENT
BEGIN:VEVENT
DTSTART;TZID=America/Chicago:20220609T163000
DTEND;TZID=America/Chicago:20220609T180000
DTSTAMP:20260421T223941
CREATED:20220520T140117Z
LAST-MODIFIED:20220520T140117Z
UID:10000554-1654792200-1654797600@cscmovement.org
SUMMARY:Headlines on the Terrace (HOT)
DESCRIPTION:Headlines on the Terrace (HOT) is a casual gathering for those who want to wade into deep topics in the news\, buoyed by good company\, great conversation\, and sharp Christian thinking on the cool side of Lake Mendota.  \nTheologian Karl Barth suggested that a Christian should be found with a newspaper in one hand and a Bible in the other. As we enjoy refreshments on the Memorial Union Terrace\, we will freely converse about the news\, ask questions\, and consider different angles of our reading in light of a Christian perspective. Friends of friends are welcome to join us! \nEach of the conversations will focus on a news article\, to which you will receive a link a few days before we meet. Drop-ins are welcome\, and we will welcome you regardless if you complete the reading!
URL:https://cscmovement.org/event/headlines-on-the-terrace-hot/2022-06-09/
LOCATION:Memorial Union Terrace\, 800 Langdon Street\, Madison\, Wisconsin\, 53703
CATEGORIES:In Person,Study Center Events
ATTACH;FMTTYPE=image/png:https://cscmovement.org/wp-content/uploads/2022/02/UpperHouse.png
END:VEVENT
BEGIN:VEVENT
DTSTART;TZID=America/Chicago:20220602T163000
DTEND;TZID=America/Chicago:20220602T180000
DTSTAMP:20260421T223941
CREATED:20220520T140117Z
LAST-MODIFIED:20220520T140117Z
UID:10000553-1654187400-1654192800@cscmovement.org
SUMMARY:Headlines on the Terrace (HOT)
DESCRIPTION:Headlines on the Terrace (HOT) is a casual gathering for those who want to wade into deep topics in the news\, buoyed by good company\, great conversation\, and sharp Christian thinking on the cool side of Lake Mendota.  \nTheologian Karl Barth suggested that a Christian should be found with a newspaper in one hand and a Bible in the other. As we enjoy refreshments on the Memorial Union Terrace\, we will freely converse about the news\, ask questions\, and consider different angles of our reading in light of a Christian perspective. Friends of friends are welcome to join us! \nEach of the conversations will focus on a news article\, to which you will receive a link a few days before we meet. Drop-ins are welcome\, and we will welcome you regardless if you complete the reading!
URL:https://cscmovement.org/event/headlines-on-the-terrace-hot/2022-06-02/
LOCATION:Memorial Union Terrace\, 800 Langdon Street\, Madison\, Wisconsin\, 53703
CATEGORIES:In Person,Study Center Events
ATTACH;FMTTYPE=image/png:https://cscmovement.org/wp-content/uploads/2022/02/UpperHouse.png
END:VEVENT
END:VCALENDAR