BEGIN:VCALENDAR
VERSION:2.0
PRODID:-//Consortium of Christian Study Centers - ECPv6.15.20//NONSGML v1.0//EN
CALSCALE:GREGORIAN
METHOD:PUBLISH
X-WR-CALNAME:Consortium of Christian Study Centers
X-ORIGINAL-URL:https://cscmovement.org
X-WR-CALDESC:Events for Consortium of Christian Study Centers
REFRESH-INTERVAL;VALUE=DURATION:PT1H
X-Robots-Tag:noindex
X-PUBLISHED-TTL:PT1H
BEGIN:VTIMEZONE
TZID:America/Chicago
BEGIN:DAYLIGHT
TZOFFSETFROM:-0600
TZOFFSETTO:-0500
TZNAME:CDT
DTSTART:20210314T080000
END:DAYLIGHT
BEGIN:STANDARD
TZOFFSETFROM:-0500
TZOFFSETTO:-0600
TZNAME:CST
DTSTART:20211107T070000
END:STANDARD
BEGIN:DAYLIGHT
TZOFFSETFROM:-0600
TZOFFSETTO:-0500
TZNAME:CDT
DTSTART:20220313T080000
END:DAYLIGHT
BEGIN:STANDARD
TZOFFSETFROM:-0500
TZOFFSETTO:-0600
TZNAME:CST
DTSTART:20221106T070000
END:STANDARD
BEGIN:DAYLIGHT
TZOFFSETFROM:-0600
TZOFFSETTO:-0500
TZNAME:CDT
DTSTART:20230312T080000
END:DAYLIGHT
BEGIN:STANDARD
TZOFFSETFROM:-0500
TZOFFSETTO:-0600
TZNAME:CST
DTSTART:20231105T070000
END:STANDARD
END:VTIMEZONE
BEGIN:VEVENT
DTSTART;TZID=America/Chicago:20221026T190000
DTEND;TZID=America/Chicago:20221026T203000
DTSTAMP:20260421T164212
CREATED:20221004T101910Z
LAST-MODIFIED:20221004T101910Z
UID:10000488-1666810800-1666816200@cscmovement.org
SUMMARY:Of Two Minds: A Neuroscientist Balances Science & Faith
DESCRIPTION:Does our ever-increasing knowledge about the detailed structure and function of the brain render beliefs\, values\, and faith irrelevant? Or does a full account of our behavior still require levels of explanation beyond what neuroscience can deliver? Join Anselm House for its 8th annual V. Elving Anderson Lecture in Science and Religion as William Newsome\, Professor of Neurobiology at Stanford and former co-chair of the NIH’s BRAIN Working Group\, considers the nature and limits of scientific explanations of human behavior.
URL:https://cscmovement.org/event/of-two-minds-a-neuroscientist-balances-science-faith/
LOCATION:McNamara Alumni Center\, 200 SE Oak St\, Minneapolis\, MN\, 55455
CATEGORIES:In Person,Study Center Events
ATTACH;FMTTYPE=image/png:https://cscmovement.org/wp-content/uploads/2022/05/Anselm-House-Logo.png
END:VEVENT
BEGIN:VEVENT
DTSTART;TZID=America/Chicago:20220517T170000
DTEND;TZID=America/Chicago:20220517T203000
DTSTAMP:20260421T164212
CREATED:20220425T183354Z
LAST-MODIFIED:20220425T183354Z
UID:10000542-1652806800-1652819400@cscmovement.org
SUMMARY:From the Heart – Celebrating 40 Years
DESCRIPTION:For 40 years God has been sustaining Anselm House as a Christian community committed to this end. So\, Anselm House is excited for a night that brings people together around God’s continuing work at the University of Minnesota. As Anselm House looks back on 40 years and shares the vision for the next 40\, join Anselm House in celebrating history and exploring possibility—together. \nEVENT HIGHLIGHTS: \n\nLive & virtual tours of our new building: Take a walking tour to Anselm House’s the progress on construction of Melrose Station—the new facility right across the street from the Alumni center!—and also experience a virtual tour of Anselm House’s future home!\nAlumni Soiree and “history wall”: Reconnect with students\, snap a photo together with alums and staff from Anselm House (2011-)\, Christian Student Fellowship (1974-2011) and The Maclaurin Institute (1982-2011). Reconnect with current and former faculty\, as well as former leadership like Duane Stanley\, Mary Beth Monsma\, Bob Osburn\, Dave & Cheri Burkum\, and more.\nMeet Current Students & Faculty: Connect with current Anselm House faculty and student fellows\, chat with Between Cities editorial staff\, and learn about exciting summer and fall events and programs.
URL:https://cscmovement.org/event/from-the-heart-celebrating-40-years/
LOCATION:McNamara Alumni Center\, 200 SE Oak St\, Minneapolis\, MN\, 55455
CATEGORIES:In Person,Study Center Events,Virtual
ATTACH;FMTTYPE=image/svg+xml:https://cscmovement.org/wp-content/uploads/2021/12/Anselm-House-Logo.svg
END:VEVENT
END:VCALENDAR