BEGIN:VCALENDAR
VERSION:2.0
PRODID:-//Consortium of Christian Study Centers - ECPv6.15.20//NONSGML v1.0//EN
CALSCALE:GREGORIAN
METHOD:PUBLISH
X-WR-CALNAME:Consortium of Christian Study Centers
X-ORIGINAL-URL:https://cscmovement.org
X-WR-CALDESC:Events for Consortium of Christian Study Centers
REFRESH-INTERVAL;VALUE=DURATION:PT1H
X-Robots-Tag:noindex
X-PUBLISHED-TTL:PT1H
BEGIN:VTIMEZONE
TZID:America/New_York
BEGIN:DAYLIGHT
TZOFFSETFROM:-0500
TZOFFSETTO:-0400
TZNAME:EDT
DTSTART:20210314T070000
END:DAYLIGHT
BEGIN:STANDARD
TZOFFSETFROM:-0400
TZOFFSETTO:-0500
TZNAME:EST
DTSTART:20211107T060000
END:STANDARD
BEGIN:DAYLIGHT
TZOFFSETFROM:-0500
TZOFFSETTO:-0400
TZNAME:EDT
DTSTART:20220313T070000
END:DAYLIGHT
BEGIN:STANDARD
TZOFFSETFROM:-0400
TZOFFSETTO:-0500
TZNAME:EST
DTSTART:20221106T060000
END:STANDARD
BEGIN:DAYLIGHT
TZOFFSETFROM:-0500
TZOFFSETTO:-0400
TZNAME:EDT
DTSTART:20230312T070000
END:DAYLIGHT
BEGIN:STANDARD
TZOFFSETFROM:-0400
TZOFFSETTO:-0500
TZNAME:EST
DTSTART:20231105T060000
END:STANDARD
END:VTIMEZONE
BEGIN:VEVENT
DTSTART;TZID=America/New_York:20221209T120000
DTEND;TZID=America/New_York:20221209T130000
DTSTAMP:20260423T105207
CREATED:20221206T192422Z
LAST-MODIFIED:20221206T192422Z
UID:10000616-1670587200-1670590800@cscmovement.org
SUMMARY:Bringing Back Marriage and Fatherhood
DESCRIPTION:In “post-Roe America” thinkers on right and left are vigorously urging a new federal family policy. Unfortunately\, much of the proposed policy targets only mothers and children. \nW. Bradford Wilcox\, senior fellow at the Institute for Family Studies and professor of sociology at the University of Virginia\, joins us to present data-backed studies that show that a truly effective family policy agenda must also integrate fathers\, and bolster marriages and families.
URL:https://cscmovement.org/event/bringing-back-marriage-and-fatherhood/
LOCATION:Kennedy Caucus Room\, 2 Constitution Ave NW\, Washington\, DC\, 20002
CATEGORIES:In Person,Partner Events
ATTACH;FMTTYPE=image/png:https://cscmovement.org/wp-content/uploads/2022/02/faith-and-law-logo-seal-dark-Lauren-Noyes.png
END:VEVENT
END:VCALENDAR