BEGIN:VCALENDAR
VERSION:2.0
PRODID:-//Consortium of Christian Study Centers - ECPv6.15.20//NONSGML v1.0//EN
CALSCALE:GREGORIAN
METHOD:PUBLISH
X-ORIGINAL-URL:https://cscmovement.org
X-WR-CALDESC:Events for Consortium of Christian Study Centers
REFRESH-INTERVAL;VALUE=DURATION:PT1H
X-Robots-Tag:noindex
X-PUBLISHED-TTL:PT1H
BEGIN:VTIMEZONE
TZID:America/New_York
BEGIN:DAYLIGHT
TZOFFSETFROM:-0500
TZOFFSETTO:-0400
TZNAME:EDT
DTSTART:20220313T070000
END:DAYLIGHT
BEGIN:STANDARD
TZOFFSETFROM:-0400
TZOFFSETTO:-0500
TZNAME:EST
DTSTART:20221106T060000
END:STANDARD
BEGIN:DAYLIGHT
TZOFFSETFROM:-0500
TZOFFSETTO:-0400
TZNAME:EDT
DTSTART:20230312T070000
END:DAYLIGHT
BEGIN:STANDARD
TZOFFSETFROM:-0400
TZOFFSETTO:-0500
TZNAME:EST
DTSTART:20231105T060000
END:STANDARD
BEGIN:DAYLIGHT
TZOFFSETFROM:-0500
TZOFFSETTO:-0400
TZNAME:EDT
DTSTART:20240310T070000
END:DAYLIGHT
BEGIN:STANDARD
TZOFFSETFROM:-0400
TZOFFSETTO:-0500
TZNAME:EST
DTSTART:20241103T060000
END:STANDARD
END:VTIMEZONE
BEGIN:VEVENT
DTSTART;TZID=America/New_York:20230328T190000
DTEND;TZID=America/New_York:20230328T210000
DTSTAMP:20260421T222715
CREATED:20230124T163231Z
LAST-MODIFIED:20230124T163231Z
UID:10000636-1680030000-1680037200@cscmovement.org
SUMMARY:The Scoper Lecture Series in Christian Thought
DESCRIPTION:This remarkable event will feature Bryan Stevenson\, Founder and Executive Director of the Equal Justice Initiative and author of the acclaimed book Just Mercy: A Story of Justice and Redemption. He will speak on the spiritual sources that empower his lifelong commitment to transformative acts of justice and mercy. An on-stage conversation with UVA President Jim Ryan will follow the lecture. \nThis event is co-hosted by Theological Horizons\, UVA Arts and Central Virginia Community Justice.
URL:https://cscmovement.org/event/the-scoper-lecture-series-in-christian-thought/
LOCATION:John Paul Jones Arena\, 295 Massie Rd\, Charlottesville\, VA\, 22903
CATEGORIES:In Person,Study Center Events
ATTACH;FMTTYPE=image/jpeg:https://cscmovement.org/wp-content/uploads/2022/02/Theological-Horizons.jpeg
END:VEVENT
END:VCALENDAR