BEGIN:VCALENDAR
VERSION:2.0
PRODID:-//Consortium of Christian Study Centers - ECPv6.15.20//NONSGML v1.0//EN
CALSCALE:GREGORIAN
METHOD:PUBLISH
X-ORIGINAL-URL:https://cscmovement.org
X-WR-CALDESC:Events for Consortium of Christian Study Centers
REFRESH-INTERVAL;VALUE=DURATION:PT1H
X-Robots-Tag:noindex
X-PUBLISHED-TTL:PT1H
BEGIN:VTIMEZONE
TZID:America/New_York
BEGIN:DAYLIGHT
TZOFFSETFROM:-0500
TZOFFSETTO:-0400
TZNAME:EDT
DTSTART:20210314T070000
END:DAYLIGHT
BEGIN:STANDARD
TZOFFSETFROM:-0400
TZOFFSETTO:-0500
TZNAME:EST
DTSTART:20211107T060000
END:STANDARD
BEGIN:DAYLIGHT
TZOFFSETFROM:-0500
TZOFFSETTO:-0400
TZNAME:EDT
DTSTART:20220313T070000
END:DAYLIGHT
BEGIN:STANDARD
TZOFFSETFROM:-0400
TZOFFSETTO:-0500
TZNAME:EST
DTSTART:20221106T060000
END:STANDARD
BEGIN:DAYLIGHT
TZOFFSETFROM:-0500
TZOFFSETTO:-0400
TZNAME:EDT
DTSTART:20230312T070000
END:DAYLIGHT
BEGIN:STANDARD
TZOFFSETFROM:-0400
TZOFFSETTO:-0500
TZNAME:EST
DTSTART:20231105T060000
END:STANDARD
END:VTIMEZONE
BEGIN:VEVENT
DTSTART;TZID=America/New_York:20220408T120000
DTEND;TZID=America/New_York:20220408T130000
DTSTAMP:20260421T211114
CREATED:20220317T180925Z
LAST-MODIFIED:20220318T144906Z
UID:10000518-1649419200-1649422800@cscmovement.org
SUMMARY:Advancing a Culture of Second Chances
DESCRIPTION:As Faith & Law celebrates Second Chance Month along with over 650 partners across the country this April\, Prison Fellowship has gathered a panel of experts\, law enforcement leaders\, and directly-impacted voices for a discussion around improving outcomes among the one in three American adults with a criminal record. Faith & Law is excited for this opportunity to dive into ways to advance second chances\, thoughtful alternatives to incarceration\, and success in reentry. \nDavid Jimenez serves as the manager of government affairs for Prison Fellowship’s advocacy and public policy team\, where he oversees federal and state legislative campaigns. His background is in public policy advocacy and institution building\, most recently as a primary manager for the American Enterprise Institute’s outreach to college students\, faculty\, and administrators. As an undergraduate at Bowdoin College in Maine\, Jimenez studied history and political theory. After graduating\, he participated in the Hudson Institute’s Political Studies Fellowship and was a Fulbright English teaching assistant in Romania. \nA proud alumnus of Prison Fellowship’s internship program\, Jimenez first became passionate about criminal justice reform while serving urban youth in New Jersey\, where he saw up close the urgent need for restorative approaches to incarceration\, law enforcement\, and violence. He is passionate about theology\, social policy\, ethics\, and culture. A Pittsburgh native\, Jimenez lives in the Columbia Heights neighborhood of Washington\, D.C.
URL:https://cscmovement.org/event/advancing-a-culture-of-second-chances/
LOCATION:Hillsdale College Kirby Center\, 227 Massachusetts Ave NE\, Washington\, DC\, 20002
CATEGORIES:In Person,Partner Events
ATTACH;FMTTYPE=image/png:https://cscmovement.org/wp-content/uploads/2022/02/faith-and-law-logo-seal-dark-Lauren-Noyes.png
END:VEVENT
END:VCALENDAR