BEGIN:VCALENDAR
VERSION:2.0
PRODID:-//Consortium of Christian Study Centers - ECPv6.15.20//NONSGML v1.0//EN
CALSCALE:GREGORIAN
METHOD:PUBLISH
X-WR-CALNAME:Consortium of Christian Study Centers
X-ORIGINAL-URL:https://cscmovement.org
X-WR-CALDESC:Events for Consortium of Christian Study Centers
REFRESH-INTERVAL;VALUE=DURATION:PT1H
X-Robots-Tag:noindex
X-PUBLISHED-TTL:PT1H
BEGIN:VTIMEZONE
TZID:America/New_York
BEGIN:DAYLIGHT
TZOFFSETFROM:-0500
TZOFFSETTO:-0400
TZNAME:EDT
DTSTART:20210314T070000
END:DAYLIGHT
BEGIN:STANDARD
TZOFFSETFROM:-0400
TZOFFSETTO:-0500
TZNAME:EST
DTSTART:20211107T060000
END:STANDARD
BEGIN:DAYLIGHT
TZOFFSETFROM:-0500
TZOFFSETTO:-0400
TZNAME:EDT
DTSTART:20220313T070000
END:DAYLIGHT
BEGIN:STANDARD
TZOFFSETFROM:-0400
TZOFFSETTO:-0500
TZNAME:EST
DTSTART:20221106T060000
END:STANDARD
BEGIN:DAYLIGHT
TZOFFSETFROM:-0500
TZOFFSETTO:-0400
TZNAME:EDT
DTSTART:20230312T070000
END:DAYLIGHT
BEGIN:STANDARD
TZOFFSETFROM:-0400
TZOFFSETTO:-0500
TZNAME:EST
DTSTART:20231105T060000
END:STANDARD
END:VTIMEZONE
BEGIN:VEVENT
DTSTART;TZID=America/New_York:20221008T130000
DTEND;TZID=America/New_York:20221008T150000
DTSTAMP:20260423T132236
CREATED:20221004T103704Z
LAST-MODIFIED:20221004T103704Z
UID:10000595-1665234000-1665241200@cscmovement.org
SUMMARY:What would John Kane paint today?
DESCRIPTION:With the publication this year of American Workman: The Life and Art of John Kane\, Pittsburgh’s own self-taught painter\, John Kane\, is enjoying a renaissance of sorts. This October\, Professor Grant Martsolf and Dr. James DeMasi will introduce the art and context of John Kane at The Senator John Heinz History Center\, which is hosting an exhibit of 37 of Kane’s works. To answer the question\, “What would John Kane paint today?” Professor Martsolf and Dr. DeMasi will dig into the genius of this 20th century master to confront his vision of homo laborans. The lecture is free\, but the museum charges for admission. \nDisclaimer: Beatrice Institute is only able to purchase tickets for our Undergraduate and Graduate Fellows and staff. All other members of the public will be required to purchase tickets at the door.
URL:https://cscmovement.org/event/what-would-john-kane-paint-today/
LOCATION:Heinz History Center\, 1212 Smallman St\, Pittsburgh\, PA\, 15222
CATEGORIES:In Person,Study Center Events
ATTACH;FMTTYPE=image/png:https://cscmovement.org/wp-content/uploads/2022/06/Beatride-Institute-Logo-1.png
END:VEVENT
END:VCALENDAR