BEGIN:VCALENDAR
VERSION:2.0
PRODID:-//Consortium of Christian Study Centers - ECPv6.15.20//NONSGML v1.0//EN
CALSCALE:GREGORIAN
METHOD:PUBLISH
X-WR-CALNAME:Consortium of Christian Study Centers
X-ORIGINAL-URL:https://cscmovement.org
X-WR-CALDESC:Events for Consortium of Christian Study Centers
REFRESH-INTERVAL;VALUE=DURATION:PT1H
X-Robots-Tag:noindex
X-PUBLISHED-TTL:PT1H
BEGIN:VTIMEZONE
TZID:America/Chicago
BEGIN:DAYLIGHT
TZOFFSETFROM:-0600
TZOFFSETTO:-0500
TZNAME:CDT
DTSTART:20210314T080000
END:DAYLIGHT
BEGIN:STANDARD
TZOFFSETFROM:-0500
TZOFFSETTO:-0600
TZNAME:CST
DTSTART:20211107T070000
END:STANDARD
BEGIN:DAYLIGHT
TZOFFSETFROM:-0600
TZOFFSETTO:-0500
TZNAME:CDT
DTSTART:20220313T080000
END:DAYLIGHT
BEGIN:STANDARD
TZOFFSETFROM:-0500
TZOFFSETTO:-0600
TZNAME:CST
DTSTART:20221106T070000
END:STANDARD
BEGIN:DAYLIGHT
TZOFFSETFROM:-0600
TZOFFSETTO:-0500
TZNAME:CDT
DTSTART:20230312T080000
END:DAYLIGHT
BEGIN:STANDARD
TZOFFSETFROM:-0500
TZOFFSETTO:-0600
TZNAME:CST
DTSTART:20231105T070000
END:STANDARD
END:VTIMEZONE
BEGIN:VEVENT
DTSTART;TZID=America/Chicago:20220818T120000
DTEND;TZID=America/Chicago:20220818T153000
DTSTAMP:20260421T191028
CREATED:20220720T144548Z
LAST-MODIFIED:20220720T144548Z
UID:10000572-1660824000-1660836600@cscmovement.org
SUMMARY:The Art of Work: A Field Trip to the Grohmann Museum
DESCRIPTION:Join Upper House to tour the remarkable Grohmann Museum of Art at the Milwaukee School of Engineering\, where the world’s most comprehensive collection of art depicting the evolution of human work resides. \nLike other quality museums\, the Grohmann Museum boasts an extensive collection of art created across several centuries and in various media. But the Grohmann is distinct in its thematic focus\, dramatically depicting the strenuous demands and sometimes elusive rewards of human labor\, ranging from work on sea and land\, in mines and factories\, in laboratories and trade shops\, from pre-industrial to post-industrial eras. Endowed to the Milwaukee School of Engineering\, the Grohmann Museum’s art\, architecture\, murals\, mosaics\, sculpture garden\, and stained glass dome collectively reinforce and elevate the dignity and principle of hard work. \nAs the group explores “The Art of Work\,” we will consider a Christian perspective of work from the standpoint of being God’s image-bearers and co-laborers. Together we will contemplate the transformative nature of labor and the ways that “vocation” crosses industries and work formats in service to God’s all-encompassing work of renewal in the world.
URL:https://cscmovement.org/event/the-art-of-work-a-field-trip-to-the-grohmann-museum/
LOCATION:Grohmann Museum\, 1000 N Broadway\, Milwaukee\, WI\, 53202
CATEGORIES:In Person,Study Center Events
ATTACH;FMTTYPE=image/png:https://cscmovement.org/wp-content/uploads/2022/02/UpperHouse.png
END:VEVENT
END:VCALENDAR