BEGIN:VCALENDAR
VERSION:2.0
PRODID:-//Consortium of Christian Study Centers - ECPv6.15.20//NONSGML v1.0//EN
CALSCALE:GREGORIAN
METHOD:PUBLISH
X-ORIGINAL-URL:https://cscmovement.org
X-WR-CALDESC:Events for Consortium of Christian Study Centers
REFRESH-INTERVAL;VALUE=DURATION:PT1H
X-Robots-Tag:noindex
X-PUBLISHED-TTL:PT1H
BEGIN:VTIMEZONE
TZID:America/Chicago
BEGIN:DAYLIGHT
TZOFFSETFROM:-0600
TZOFFSETTO:-0500
TZNAME:CDT
DTSTART:20210314T080000
END:DAYLIGHT
BEGIN:STANDARD
TZOFFSETFROM:-0500
TZOFFSETTO:-0600
TZNAME:CST
DTSTART:20211107T070000
END:STANDARD
BEGIN:DAYLIGHT
TZOFFSETFROM:-0600
TZOFFSETTO:-0500
TZNAME:CDT
DTSTART:20220313T080000
END:DAYLIGHT
BEGIN:STANDARD
TZOFFSETFROM:-0500
TZOFFSETTO:-0600
TZNAME:CST
DTSTART:20221106T070000
END:STANDARD
BEGIN:DAYLIGHT
TZOFFSETFROM:-0600
TZOFFSETTO:-0500
TZNAME:CDT
DTSTART:20230312T080000
END:DAYLIGHT
BEGIN:STANDARD
TZOFFSETFROM:-0500
TZOFFSETTO:-0600
TZNAME:CST
DTSTART:20231105T070000
END:STANDARD
END:VTIMEZONE
BEGIN:VEVENT
DTSTART;TZID=America/Chicago:20220915T120000
DTEND;TZID=America/Chicago:20220915T131500
DTSTAMP:20260424T080245
CREATED:20220905T200240Z
LAST-MODIFIED:20220905T200240Z
UID:10000468-1663243200-1663247700@cscmovement.org
SUMMARY:Graduate/Professional Student & Christian Faculty Lunch
DESCRIPTION:All UMN graduate/professional students and faculty/staff are welcome to join Anselm House for the annual fall lunch in the President’s Room in Coffman Union. You’ll enjoy Chipotle burritos and you’ll have the chance to meet others working in related academic fields\, as well as hear encouraging words from Christian faculty. \nThis event is cosponsored by Christian Legal Society\, Faculty Commons\, Graduate Christian Fellowship\, Wilberforce International Institute\, St. Lawrence Young Adult Group\, Christian Medical and Dental Association\, Saint Thomas More Society\, and Sojourn Campus Church.
URL:https://cscmovement.org/event/graduate-professional-student-christian-faculty-lunch/
LOCATION:Coffman Memorial Union\, 300 Washington Ave SE\, Minneapolis\, MN\, 55455
CATEGORIES:In Person,Study Center Events
ATTACH;FMTTYPE=image/png:https://cscmovement.org/wp-content/uploads/2022/05/Anselm-House-Logo.png
END:VEVENT
BEGIN:VEVENT
DTSTART;TZID=America/Chicago:20220324T170000
DTEND;TZID=America/Chicago:20220324T190000
DTSTAMP:20260424T080245
CREATED:20220318T151923Z
LAST-MODIFIED:20220318T151923Z
UID:10000533-1648141200-1648148400@cscmovement.org
SUMMARY:Veritas Forum on Loving God & Loving Neighbor: Muslim & Christian Perspectives on the “Other”
DESCRIPTION:Loving one’s neighbor is a value taught by many religious traditions\, including Christianity and Islam. How do our religious traditions teach us how to view issues of race\, difference\, and so on? And how have our histories demonstrated the similarities in terms of approaching these issues? \nAll UMN students are invited to join Anselm House\, the Muslim Student Association\, and The Veritas Forum for Loving God and Loving Neighbor: Muslim and Christian Perspectives on the ‘Other\,’ a roundtable dinner discussion with Dr. Fuad Naeem (University of St. Thomas) and Dr. Paul Lim (Vanderbilt University). \nA plated dinner and dessert will be catered from a local Halal-friendly restaurant. The event will include a moderated discussion\, led by Ustadha Faduma Warsame (UMN Chaplain & Muslim Life Advisor)\, a time for discussion among attendees\, and a Q&A with Dr. Lim and Dr. Naeem. \nSpace is very limited so please register.
URL:https://cscmovement.org/event/veritas-forum-on-loving-god-loving-neighbor-muslim-christian-perspectives-on-the-other/
LOCATION:Coffman Memorial Union\, 300 Washington Ave SE\, Minneapolis\, MN\, 55455
CATEGORIES:In Person,Study Center Events
ATTACH;FMTTYPE=image/svg+xml:https://cscmovement.org/wp-content/uploads/2021/12/Anselm-House-Logo.svg
END:VEVENT
END:VCALENDAR