BEGIN:VCALENDAR
VERSION:2.0
PRODID:-//Consortium of Christian Study Centers - ECPv6.15.20//NONSGML v1.0//EN
CALSCALE:GREGORIAN
METHOD:PUBLISH
X-WR-CALNAME:Consortium of Christian Study Centers
X-ORIGINAL-URL:https://cscmovement.org
X-WR-CALDESC:Events for Consortium of Christian Study Centers
REFRESH-INTERVAL;VALUE=DURATION:PT1H
X-Robots-Tag:noindex
X-PUBLISHED-TTL:PT1H
BEGIN:VTIMEZONE
TZID:America/New_York
BEGIN:DAYLIGHT
TZOFFSETFROM:-0500
TZOFFSETTO:-0400
TZNAME:EDT
DTSTART:20210314T070000
END:DAYLIGHT
BEGIN:STANDARD
TZOFFSETFROM:-0400
TZOFFSETTO:-0500
TZNAME:EST
DTSTART:20211107T060000
END:STANDARD
BEGIN:DAYLIGHT
TZOFFSETFROM:-0500
TZOFFSETTO:-0400
TZNAME:EDT
DTSTART:20220313T070000
END:DAYLIGHT
BEGIN:STANDARD
TZOFFSETFROM:-0400
TZOFFSETTO:-0500
TZNAME:EST
DTSTART:20221106T060000
END:STANDARD
BEGIN:DAYLIGHT
TZOFFSETFROM:-0500
TZOFFSETTO:-0400
TZNAME:EDT
DTSTART:20230312T070000
END:DAYLIGHT
BEGIN:STANDARD
TZOFFSETFROM:-0400
TZOFFSETTO:-0500
TZNAME:EST
DTSTART:20231105T060000
END:STANDARD
END:VTIMEZONE
BEGIN:VEVENT
DTSTART;TZID=America/New_York:20220919T184500
DTEND;TZID=America/New_York:20220919T210000
DTSTAMP:20260421T182646
CREATED:20220905T191814Z
LAST-MODIFIED:20220905T191814Z
UID:10000456-1663613100-1663621200@cscmovement.org
SUMMARY:Lessons from Hippo: Reading Augustine's "City of God" in a Time of Crisis
DESCRIPTION:Join the Christian Study Center of Gainesville as they welcome Dr. Michael Allen\, professor of theology at Reformed Theological Seminary\, for a reception and evening lecture on the contemporary  significance of St. Augustine’s City of God. \nThe glorious city of Rome was invaded in August 410\, leading to a new sense of vulnerability and an unsettled posture toward the future. Augustine wrote The City of God to respond to non-Christians regarding widely-circulating criticisms of Christianity and also to school Christians about how to bear up in the tumults of turbulent times. We do well to learn from both of those aims as we think about apologetics and about discipleship in similarly turbulent times of crisis.
URL:https://cscmovement.org/event/lessons-from-hippo-reading-augustines-city-of-god-in-a-time-of-crisis/
LOCATION:Christian Study Center of Gainesville\, 112 NW 16th Street\, Gainesville\, FL\, 32603\, United States
CATEGORIES:In Person,Study Center Events
ATTACH;FMTTYPE=image/png:https://cscmovement.org/wp-content/uploads/2022/02/Christian-Study-Center-of-Gainesville-Logo.png
END:VEVENT
BEGIN:VEVENT
DTSTART;TZID=America/New_York:20220412T180000
DTEND;TZID=America/New_York:20220412T210000
DTSTAMP:20260421T182646
CREATED:20220419T193155Z
LAST-MODIFIED:20220419T193155Z
UID:10000541-1649786400-1649797200@cscmovement.org
SUMMARY:The Wisdom of Qoheleth: Ecclesiastes as a Meditation on Life in a Troubled World
DESCRIPTION:Join the Christian Study Center of Gainesville for a farewell reception and final lecture from executive director\, Dr. Richard Horner. \nPerhaps no book in the Hebrew Bible has been more difficult to interpret and translate than the book of Ecclesiastes. To what reality does the famous opening phrase point? Exactly what question is the author trying to address? What answers does he give? What wisdom does this book have to offer to us today for how to live well in a broken and troubled but wondrous world? Come explore these and other questions!
URL:https://cscmovement.org/event/the-wisdom-of-qoheleth-ecclesiastes-as-a-meditation-on-life-in-a-troubled-world/
LOCATION:Christian Study Center of Gainesville\, 112 NW 16th Street\, Gainesville\, FL\, 32603\, United States
CATEGORIES:In Person,Study Center Events
ATTACH;FMTTYPE=image/tiff:https://cscmovement.org/wp-content/uploads/2022/02/CSC-Logo-tif-Nora-Avery.tif
END:VEVENT
END:VCALENDAR