BEGIN:VCALENDAR
VERSION:2.0
PRODID:-//Consortium of Christian Study Centers - ECPv6.15.20//NONSGML v1.0//EN
CALSCALE:GREGORIAN
METHOD:PUBLISH
X-ORIGINAL-URL:https://cscmovement.org
X-WR-CALDESC:Events for Consortium of Christian Study Centers
REFRESH-INTERVAL;VALUE=DURATION:PT1H
X-Robots-Tag:noindex
X-PUBLISHED-TTL:PT1H
BEGIN:VTIMEZONE
TZID:America/New_York
BEGIN:DAYLIGHT
TZOFFSETFROM:-0500
TZOFFSETTO:-0400
TZNAME:EDT
DTSTART:20210314T070000
END:DAYLIGHT
BEGIN:STANDARD
TZOFFSETFROM:-0400
TZOFFSETTO:-0500
TZNAME:EST
DTSTART:20211107T060000
END:STANDARD
BEGIN:DAYLIGHT
TZOFFSETFROM:-0500
TZOFFSETTO:-0400
TZNAME:EDT
DTSTART:20220313T070000
END:DAYLIGHT
BEGIN:STANDARD
TZOFFSETFROM:-0400
TZOFFSETTO:-0500
TZNAME:EST
DTSTART:20221106T060000
END:STANDARD
BEGIN:DAYLIGHT
TZOFFSETFROM:-0500
TZOFFSETTO:-0400
TZNAME:EDT
DTSTART:20230312T070000
END:DAYLIGHT
BEGIN:STANDARD
TZOFFSETFROM:-0400
TZOFFSETTO:-0500
TZNAME:EST
DTSTART:20231105T060000
END:STANDARD
END:VTIMEZONE
BEGIN:VEVENT
DTSTART;TZID=America/New_York:20220913T180000
DTEND;TZID=America/New_York:20220913T190000
DTSTAMP:20260423T082233
CREATED:20220905T195231Z
LAST-MODIFIED:20220905T195231Z
UID:10000590-1663092000-1663095600@cscmovement.org
SUMMARY:Finding Our Story in God's Story
DESCRIPTION:Get to know the Center for Christian Study’s new Director of Undergraduate Ministries for Men\, Drew Masterson and its new Director of Undergraduate Ministries for Women\, Katie Black. Katie and Drew will share their stories and how God has been at work in their lives.
URL:https://cscmovement.org/event/finding-our-story-in-gods-story/
LOCATION:Center for Christian Study\, 128 Chancellor St\, Charlottesville\, VA\, 22903
CATEGORIES:In Person,Study Center Events
ATTACH;FMTTYPE=image/jpeg:https://cscmovement.org/wp-content/uploads/2022/06/CSCCVilleLogo.jpeg
END:VEVENT
BEGIN:VEVENT
DTSTART;TZID=America/New_York:20220402T090000
DTEND;TZID=America/New_York:20220402T170000
DTSTAMP:20260423T082233
CREATED:20220317T153913Z
LAST-MODIFIED:20220318T145809Z
UID:10000492-1648890000-1648918800@cscmovement.org
SUMMARY:Soul Sabbath
DESCRIPTION:Take a retreat with UVA’s Center for Christian Study to seek the Lord in silence and solitude. \nThe retreat day will begin at the Study Center at 9:00 a.m. From there\, people will carpool to the retreat location in Crozet\, VA. Cars will return by 5:00 p.m. The day will consist of opportunities to practice contemplative spiritual disciplines. Katie and Ethan Hightower will be present for spiritual guidance and prayer for students\, and there will be a selection of books from the Study Center library to aid students in their retreat.
URL:https://cscmovement.org/event/soul-sabbath/
LOCATION:Center for Christian Study\, 128 Chancellor St\, Charlottesville\, VA\, 22903
CATEGORIES:In Person,Study Center Events
ATTACH;FMTTYPE=image/jpeg:https://cscmovement.org/wp-content/uploads/2022/02/CCS-Charlottesville.jpg
END:VEVENT
END:VCALENDAR