BEGIN:VCALENDAR
VERSION:2.0
PRODID:-//Consortium of Christian Study Centers - ECPv6.15.20//NONSGML v1.0//EN
CALSCALE:GREGORIAN
METHOD:PUBLISH
X-ORIGINAL-URL:https://cscmovement.org
X-WR-CALDESC:Events for Consortium of Christian Study Centers
REFRESH-INTERVAL;VALUE=DURATION:PT1H
X-Robots-Tag:noindex
X-PUBLISHED-TTL:PT1H
BEGIN:VTIMEZONE
TZID:America/New_York
BEGIN:DAYLIGHT
TZOFFSETFROM:-0500
TZOFFSETTO:-0400
TZNAME:EDT
DTSTART:20210314T070000
END:DAYLIGHT
BEGIN:STANDARD
TZOFFSETFROM:-0400
TZOFFSETTO:-0500
TZNAME:EST
DTSTART:20211107T060000
END:STANDARD
BEGIN:DAYLIGHT
TZOFFSETFROM:-0500
TZOFFSETTO:-0400
TZNAME:EDT
DTSTART:20220313T070000
END:DAYLIGHT
BEGIN:STANDARD
TZOFFSETFROM:-0400
TZOFFSETTO:-0500
TZNAME:EST
DTSTART:20221106T060000
END:STANDARD
BEGIN:DAYLIGHT
TZOFFSETFROM:-0500
TZOFFSETTO:-0400
TZNAME:EDT
DTSTART:20230312T070000
END:DAYLIGHT
BEGIN:STANDARD
TZOFFSETFROM:-0400
TZOFFSETTO:-0500
TZNAME:EST
DTSTART:20231105T060000
END:STANDARD
BEGIN:DAYLIGHT
TZOFFSETFROM:-0500
TZOFFSETTO:-0400
TZNAME:EDT
DTSTART:20240310T070000
END:DAYLIGHT
BEGIN:STANDARD
TZOFFSETFROM:-0400
TZOFFSETTO:-0500
TZNAME:EST
DTSTART:20241103T060000
END:STANDARD
BEGIN:DAYLIGHT
TZOFFSETFROM:-0500
TZOFFSETTO:-0400
TZNAME:EDT
DTSTART:20250309T070000
END:DAYLIGHT
BEGIN:STANDARD
TZOFFSETFROM:-0400
TZOFFSETTO:-0500
TZNAME:EST
DTSTART:20251102T060000
END:STANDARD
BEGIN:DAYLIGHT
TZOFFSETFROM:-0500
TZOFFSETTO:-0400
TZNAME:EDT
DTSTART:20260308T070000
END:DAYLIGHT
BEGIN:STANDARD
TZOFFSETFROM:-0400
TZOFFSETTO:-0500
TZNAME:EST
DTSTART:20261101T060000
END:STANDARD
END:VTIMEZONE
BEGIN:VEVENT
DTSTART;VALUE=DATE:20250721
DTEND;VALUE=DATE:20250724
DTSTAMP:20260421T114650
CREATED:20240723T143927Z
LAST-MODIFIED:20240723T143940Z
UID:10001132-1753056000-1753315199@cscmovement.org
SUMMARY:2025 Annual Meeting
DESCRIPTION:
URL:https://cscmovement.org/event/2025-annual-meeting/
LOCATION:Center for Christian Study\, 128 Chancellor St\, Charlottesville\, VA\, 22903
CATEGORIES:CCSC Events,In Person
ATTACH;FMTTYPE=image/png:https://cscmovement.org/wp-content/uploads/2024/07/Large-Logo-Transparent-Background-1.png
END:VEVENT
BEGIN:VEVENT
DTSTART;TZID=America/New_York:20240823T130000
DTEND;TZID=America/New_York:20240823T150000
DTSTAMP:20260421T114650
CREATED:20240723T141830Z
LAST-MODIFIED:20240723T141830Z
UID:10001127-1724418000-1724425200@cscmovement.org
SUMMARY:Move-In Day Lunch at UVA
DESCRIPTION:All first-year students and their families are welcome to join the Center for Christian Study’s Move-in Day Lunch! Come connect with Christian community at UVA and meet with Grounds ministers from a variety of fellowships.
URL:https://cscmovement.org/event/move-in-day-lunch-at-uva-2/
LOCATION:Center for Christian Study\, 128 Chancellor St\, Charlottesville\, VA\, 22903
CATEGORIES:In Person,Study Center Events
ATTACH;FMTTYPE=image/png:https://cscmovement.org/wp-content/uploads/2023/10/CCS-Logo.png
END:VEVENT
BEGIN:VEVENT
DTSTART;TZID=America/New_York:20240518T103000
DTEND;TZID=America/New_York:20240518T133000
DTSTAMP:20260421T114650
CREATED:20240506T180328Z
LAST-MODIFIED:20240506T180328Z
UID:10001108-1716028200-1716039000@cscmovement.org
SUMMARY:Graduation Brunch 2024
DESCRIPTION:Graduates\, families\, and guests are invited to join the Center for Christian Study for brunch to celebrate the Class of 2024!
URL:https://cscmovement.org/event/graduation-brunch-2024/
LOCATION:Center for Christian Study\, 128 Chancellor St\, Charlottesville\, VA\, 22903
CATEGORIES:In Person,Study Center Events
ATTACH;FMTTYPE=image/png:https://cscmovement.org/wp-content/uploads/2023/10/CCS-Logo.png
END:VEVENT
BEGIN:VEVENT
DTSTART;VALUE=DATE:20240412
DTEND;VALUE=DATE:20240414
DTSTAMP:20260421T114650
CREATED:20240402T145525Z
LAST-MODIFIED:20240402T145525Z
UID:10001102-1712880000-1713052799@cscmovement.org
SUMMARY:Living in the Light 2024
DESCRIPTION:Living in the Light is a two-day\, in-person event full of fellowship\, learning\, food\, and fun at the Center for Christian Study and around the Charlottesville area. Living in the Light provides an opportunity for parents\, alumni\, and friends to experience the faith and fellowship offered through the study center’s ministry.
URL:https://cscmovement.org/event/living-in-the-light-2024/
LOCATION:Center for Christian Study\, 128 Chancellor St\, Charlottesville\, VA\, 22903
CATEGORIES:In Person,Study Center Events
ATTACH;FMTTYPE=image/png:https://cscmovement.org/wp-content/uploads/2023/10/CCS-Logo.png
END:VEVENT
BEGIN:VEVENT
DTSTART;VALUE=DATE:20231214
DTEND;VALUE=DATE:20231215
DTSTAMP:20260421T114650
CREATED:20231205T172629Z
LAST-MODIFIED:20231205T172629Z
UID:10000991-1702540800-1702573200@cscmovement.org
SUMMARY:Center for Christian Study Exam Snacks
DESCRIPTION:At the end of each semester\, the Center for Christian Study hosts Exam Snacks during finals week\, offering breakfast and dinner for UVA students.
URL:https://cscmovement.org/event/center-for-christian-study-exam-snacks/2023-12-14/
LOCATION:Center for Christian Study\, 128 Chancellor St\, Charlottesville\, VA\, 22903
CATEGORIES:In Person,Study Center Events
ATTACH;FMTTYPE=image/png:https://cscmovement.org/wp-content/uploads/2023/10/CCS-Logo.png
END:VEVENT
BEGIN:VEVENT
DTSTART;VALUE=DATE:20231213
DTEND;VALUE=DATE:20231214
DTSTAMP:20260421T114650
CREATED:20231205T172629Z
LAST-MODIFIED:20231205T172629Z
UID:10000990-1702454400-1702486800@cscmovement.org
SUMMARY:Center for Christian Study Exam Snacks
DESCRIPTION:At the end of each semester\, the Center for Christian Study hosts Exam Snacks during finals week\, offering breakfast and dinner for UVA students.
URL:https://cscmovement.org/event/center-for-christian-study-exam-snacks/2023-12-13/
LOCATION:Center for Christian Study\, 128 Chancellor St\, Charlottesville\, VA\, 22903
CATEGORIES:In Person,Study Center Events
ATTACH;FMTTYPE=image/png:https://cscmovement.org/wp-content/uploads/2023/10/CCS-Logo.png
END:VEVENT
BEGIN:VEVENT
DTSTART;VALUE=DATE:20231212
DTEND;VALUE=DATE:20231213
DTSTAMP:20260421T114650
CREATED:20231205T172629Z
LAST-MODIFIED:20231205T172629Z
UID:10000989-1702368000-1702400400@cscmovement.org
SUMMARY:Center for Christian Study Exam Snacks
DESCRIPTION:At the end of each semester\, the Center for Christian Study hosts Exam Snacks during finals week\, offering breakfast and dinner for UVA students.
URL:https://cscmovement.org/event/center-for-christian-study-exam-snacks/2023-12-12/
LOCATION:Center for Christian Study\, 128 Chancellor St\, Charlottesville\, VA\, 22903
CATEGORIES:In Person,Study Center Events
ATTACH;FMTTYPE=image/png:https://cscmovement.org/wp-content/uploads/2023/10/CCS-Logo.png
END:VEVENT
BEGIN:VEVENT
DTSTART;VALUE=DATE:20231211
DTEND;VALUE=DATE:20231212
DTSTAMP:20260421T114650
CREATED:20231205T172629Z
LAST-MODIFIED:20231205T172629Z
UID:10000988-1702281600-1702314000@cscmovement.org
SUMMARY:Center for Christian Study Exam Snacks
DESCRIPTION:At the end of each semester\, the Center for Christian Study hosts Exam Snacks during finals week\, offering breakfast and dinner for UVA students.
URL:https://cscmovement.org/event/center-for-christian-study-exam-snacks/2023-12-11/
LOCATION:Center for Christian Study\, 128 Chancellor St\, Charlottesville\, VA\, 22903
CATEGORIES:In Person,Study Center Events
ATTACH;FMTTYPE=image/png:https://cscmovement.org/wp-content/uploads/2023/10/CCS-Logo.png
END:VEVENT
BEGIN:VEVENT
DTSTART;VALUE=DATE:20231207
DTEND;VALUE=DATE:20231210
DTSTAMP:20260421T114650
CREATED:20231205T172629Z
LAST-MODIFIED:20231205T172629Z
UID:10000987-1701907200-1702166399@cscmovement.org
SUMMARY:Center for Christian Study Exam Snacks
DESCRIPTION:At the end of each semester\, the Center for Christian Study hosts Exam Snacks during finals week\, offering breakfast and dinner for UVA students.
URL:https://cscmovement.org/event/center-for-christian-study-exam-snacks/2023-12-07/
LOCATION:Center for Christian Study\, 128 Chancellor St\, Charlottesville\, VA\, 22903
CATEGORIES:In Person,Study Center Events
ATTACH;FMTTYPE=image/png:https://cscmovement.org/wp-content/uploads/2023/10/CCS-Logo.png
END:VEVENT
BEGIN:VEVENT
DTSTART;TZID=America/New_York:20231115T180000
DTEND;TZID=America/New_York:20231115T193000
DTSTAMP:20260421T114650
CREATED:20231031T150350Z
LAST-MODIFIED:20231031T150350Z
UID:10000978-1700071200-1700076600@cscmovement.org
SUMMARY:AI: What's Really at Stake
DESCRIPTION:Join Rick Campanelli\, UVA Batten School Lecturer who focuses on the ethics of disruptive technologies\, and the Study Center’s Graduate Ministries Director\, as he describes what is disruptive about the AI waves just starting to crest\, how AI will intersect with biotech and other accelerating technologies\, and their implications for human flourishing. Its time to start a conversation. Pizza will be provided.
URL:https://cscmovement.org/event/ai-whats-really-at-stake/
LOCATION:Center for Christian Study\, 128 Chancellor St\, Charlottesville\, VA\, 22903
CATEGORIES:In Person,Study Center Events
ATTACH;FMTTYPE=image/png:https://cscmovement.org/wp-content/uploads/2022/02/CCSLogoTextSlate.png
END:VEVENT
BEGIN:VEVENT
DTSTART;TZID=America/New_York:20230818T130000
DTEND;TZID=America/New_York:20230818T143000
DTSTAMP:20260421T114650
CREATED:20230713T161805Z
LAST-MODIFIED:20230807T141907Z
UID:10000825-1692363600-1692369000@cscmovement.org
SUMMARY:Move-In Day Lunch at UVA
DESCRIPTION:All first-year students and their families are welcome to join the Center for Christian Study at the center. Come connect with Christian community at UVA and meet with Grounds ministers from a variety of fellowships.
URL:https://cscmovement.org/event/move-in-day-lunch-at-uva/2023-08-18/
LOCATION:Center for Christian Study\, 128 Chancellor St\, Charlottesville\, VA\, 22903
CATEGORIES:In Person,Study Center Events
ATTACH;FMTTYPE=image/jpeg:https://cscmovement.org/wp-content/uploads/2022/06/CSCCVilleLogo.jpeg
END:VEVENT
BEGIN:VEVENT
DTSTART;TZID=America/New_York:20230817T130000
DTEND;TZID=America/New_York:20230817T143000
DTSTAMP:20260421T114650
CREATED:20230713T161805Z
LAST-MODIFIED:20230807T141907Z
UID:10000824-1692277200-1692282600@cscmovement.org
SUMMARY:Move-In Day Lunch at UVA
DESCRIPTION:All first-year students and their families are welcome to join the Center for Christian Study at the center. Come connect with Christian community at UVA and meet with Grounds ministers from a variety of fellowships.
URL:https://cscmovement.org/event/move-in-day-lunch-at-uva/2023-08-17/
LOCATION:Center for Christian Study\, 128 Chancellor St\, Charlottesville\, VA\, 22903
CATEGORIES:In Person,Study Center Events
ATTACH;FMTTYPE=image/jpeg:https://cscmovement.org/wp-content/uploads/2022/06/CSCCVilleLogo.jpeg
END:VEVENT
BEGIN:VEVENT
DTSTART;TZID=America/New_York:20230411T180000
DTEND;TZID=America/New_York:20230411T190000
DTSTAMP:20260421T114650
CREATED:20230404T163038Z
LAST-MODIFIED:20230411T172339Z
UID:10000662-1681236000-1681239600@cscmovement.org
SUMMARY:What's Wrong with Democracy: Three Answers\, No Consensus
DESCRIPTION:UVA Professor of Politics John Owen will speak as part of the Center for Christian Study’s University Faculty Lecture Series on What’s Wrong with Democracy.
URL:https://cscmovement.org/event/whats-wrong-with-democracy-three-answers-no-consensus/
LOCATION:Center for Christian Study\, 128 Chancellor St\, Charlottesville\, VA\, 22903
CATEGORIES:In Person,Study Center Events
ATTACH;FMTTYPE=image/jpeg:https://cscmovement.org/wp-content/uploads/2022/06/CSCCVilleLogo.jpeg
END:VEVENT
BEGIN:VEVENT
DTSTART;TZID=America/New_York:20230207T170000
DTEND;TZID=America/New_York:20230207T180000
DTSTAMP:20260421T114650
CREATED:20230207T004203Z
LAST-MODIFIED:20230207T004203Z
UID:10000644-1675789200-1675792800@cscmovement.org
SUMMARY:Love\, Sex & Faith: Common College Mistakes that Reduce Happiness
DESCRIPTION:Social science data consistently reveal that one’s lifelong happiness has less to do with professional success than with the quality of one’s relationships—especially marriage and family life. UVA Professor Brad Wilcox will place a spotlight on how to prepare for and realize relationship goals.
URL:https://cscmovement.org/event/love-sex-faith-common-college-mistakes-that-reduce-happiness-2/
LOCATION:Center for Christian Study\, 128 Chancellor St\, Charlottesville\, VA\, 22903
CATEGORIES:In Person,Study Center Events
ATTACH;FMTTYPE=image/jpeg:https://cscmovement.org/wp-content/uploads/2022/06/CSCCVilleLogo.jpeg
END:VEVENT
BEGIN:VEVENT
DTSTART;TZID=America/New_York:20230124T080000
DTEND;TZID=America/New_York:20230124T170000
DTSTAMP:20260421T114650
CREATED:20230124T163637Z
LAST-MODIFIED:20230124T163637Z
UID:10000637-1674547200-1674579600@cscmovement.org
SUMMARY:Love\, Sex & Faith: Common College Mistakes that Reduce Happiness
DESCRIPTION:Join the Center for Christian Study and UVA Professor of Sociology Brad Wilcox for a lecture on three common mistakes that college students make that ultimately produce unhappiness later in life.
URL:https://cscmovement.org/event/love-sex-faith-common-college-mistakes-that-reduce-happiness/
LOCATION:Center for Christian Study\, 128 Chancellor St\, Charlottesville\, VA\, 22903
CATEGORIES:In Person,Study Center Events
ATTACH;FMTTYPE=image/jpeg:https://cscmovement.org/wp-content/uploads/2022/06/CSCCVilleLogo.jpeg
END:VEVENT
BEGIN:VEVENT
DTSTART;TZID=America/New_York:20221013T180000
DTEND;TZID=America/New_York:20221013T203000
DTSTAMP:20260421T114650
CREATED:20220425T184538Z
LAST-MODIFIED:20220425T184538Z
UID:10000545-1665684000-1665693000@cscmovement.org
SUMMARY:The Good Life Method
DESCRIPTION:Join the Center for Christian Study on October 13th for a lecture from author and Notre Dame Professor of Philosophy Meghan Sullivan on her recent book The Good Life Method: Reasoning through the Big Questions of Happiness\, Faith\, and Meaning. Drawing on the great philosophers\, Sullivan will encourage listeners to ask the big questions about faith and what makes life meaningful.
URL:https://cscmovement.org/event/the-good-life-method/
LOCATION:Center for Christian Study\, 128 Chancellor St\, Charlottesville\, VA\, 22903
CATEGORIES:In Person,Study Center Events
ATTACH;FMTTYPE=image/jpeg:https://cscmovement.org/wp-content/uploads/2022/02/CCS-Charlottesville.jpg
END:VEVENT
BEGIN:VEVENT
DTSTART;TZID=America/New_York:20220913T180000
DTEND;TZID=America/New_York:20220913T190000
DTSTAMP:20260421T114650
CREATED:20220905T195231Z
LAST-MODIFIED:20220905T195231Z
UID:10000590-1663092000-1663095600@cscmovement.org
SUMMARY:Finding Our Story in God's Story
DESCRIPTION:Get to know the Center for Christian Study’s new Director of Undergraduate Ministries for Men\, Drew Masterson and its new Director of Undergraduate Ministries for Women\, Katie Black. Katie and Drew will share their stories and how God has been at work in their lives.
URL:https://cscmovement.org/event/finding-our-story-in-gods-story/
LOCATION:Center for Christian Study\, 128 Chancellor St\, Charlottesville\, VA\, 22903
CATEGORIES:In Person,Study Center Events
ATTACH;FMTTYPE=image/jpeg:https://cscmovement.org/wp-content/uploads/2022/06/CSCCVilleLogo.jpeg
END:VEVENT
BEGIN:VEVENT
DTSTART;TZID=America/New_York:20220402T090000
DTEND;TZID=America/New_York:20220402T170000
DTSTAMP:20260421T114650
CREATED:20220317T153913Z
LAST-MODIFIED:20220318T145809Z
UID:10000492-1648890000-1648918800@cscmovement.org
SUMMARY:Soul Sabbath
DESCRIPTION:Take a retreat with UVA’s Center for Christian Study to seek the Lord in silence and solitude. \nThe retreat day will begin at the Study Center at 9:00 a.m. From there\, people will carpool to the retreat location in Crozet\, VA. Cars will return by 5:00 p.m. The day will consist of opportunities to practice contemplative spiritual disciplines. Katie and Ethan Hightower will be present for spiritual guidance and prayer for students\, and there will be a selection of books from the Study Center library to aid students in their retreat.
URL:https://cscmovement.org/event/soul-sabbath/
LOCATION:Center for Christian Study\, 128 Chancellor St\, Charlottesville\, VA\, 22903
CATEGORIES:In Person,Study Center Events
ATTACH;FMTTYPE=image/jpeg:https://cscmovement.org/wp-content/uploads/2022/02/CCS-Charlottesville.jpg
END:VEVENT
END:VCALENDAR