BEGIN:VCALENDAR
VERSION:2.0
PRODID:-//Consortium of Christian Study Centers - ECPv6.15.20//NONSGML v1.0//EN
CALSCALE:GREGORIAN
METHOD:PUBLISH
X-WR-CALNAME:Consortium of Christian Study Centers
X-ORIGINAL-URL:https://cscmovement.org
X-WR-CALDESC:Events for Consortium of Christian Study Centers
REFRESH-INTERVAL;VALUE=DURATION:PT1H
X-Robots-Tag:noindex
X-PUBLISHED-TTL:PT1H
BEGIN:VTIMEZONE
TZID:America/New_York
BEGIN:DAYLIGHT
TZOFFSETFROM:-0500
TZOFFSETTO:-0400
TZNAME:EDT
DTSTART:20210314T070000
END:DAYLIGHT
BEGIN:STANDARD
TZOFFSETFROM:-0400
TZOFFSETTO:-0500
TZNAME:EST
DTSTART:20211107T060000
END:STANDARD
BEGIN:DAYLIGHT
TZOFFSETFROM:-0500
TZOFFSETTO:-0400
TZNAME:EDT
DTSTART:20220313T070000
END:DAYLIGHT
BEGIN:STANDARD
TZOFFSETFROM:-0400
TZOFFSETTO:-0500
TZNAME:EST
DTSTART:20221106T060000
END:STANDARD
BEGIN:DAYLIGHT
TZOFFSETFROM:-0500
TZOFFSETTO:-0400
TZNAME:EDT
DTSTART:20230312T070000
END:DAYLIGHT
BEGIN:STANDARD
TZOFFSETFROM:-0400
TZOFFSETTO:-0500
TZNAME:EST
DTSTART:20231105T060000
END:STANDARD
END:VTIMEZONE
BEGIN:VEVENT
DTSTART;TZID=America/New_York:20220910T133000
DTEND;TZID=America/New_York:20220910T150000
DTSTAMP:20260421T230216
CREATED:20220905T190901Z
LAST-MODIFIED:20220905T190901Z
UID:10000448-1662816600-1662822000@cscmovement.org
SUMMARY:What is the Bible? Medieval to Modern: 500 Years Since Luther's Bible
DESCRIPTION:On the 500th anniversary of the publication of Martin Luther’s German translation of the New Testament\, Beatrice Institute features four TED-style talks on the history of the Bible. By academics\, for non-academics\, these brief object-lessons are followed by a round-table discussion. What did Bibles look like and how did they work before Luther? How did Reformation-era Jewish communities reproduce and interact with the Hebrew Bible? How did authorities regulate the circulation of Luther’s revolutionary translation? And how did Luther teach lay people to read the Bible in translation?
URL:https://cscmovement.org/event/what-is-the-bible-medieval-to-modern-500-years-since-luthers-bible/
LOCATION:Cathedral of Learning\, 4200 Fifth Avenue\, Pittsburgh\, PA\, 15213
CATEGORIES:In Person,Study Center Events
ATTACH;FMTTYPE=image/png:https://cscmovement.org/wp-content/uploads/2022/08/Beatrice-Institute-Logo.png
END:VEVENT
END:VCALENDAR