BEGIN:VCALENDAR
VERSION:2.0
PRODID:-//Consortium of Christian Study Centers - ECPv6.15.20//NONSGML v1.0//EN
CALSCALE:GREGORIAN
METHOD:PUBLISH
X-WR-CALNAME:Consortium of Christian Study Centers
X-ORIGINAL-URL:https://cscmovement.org
X-WR-CALDESC:Events for Consortium of Christian Study Centers
REFRESH-INTERVAL;VALUE=DURATION:PT1H
X-Robots-Tag:noindex
X-PUBLISHED-TTL:PT1H
BEGIN:VTIMEZONE
TZID:America/New_York
BEGIN:DAYLIGHT
TZOFFSETFROM:-0500
TZOFFSETTO:-0400
TZNAME:EDT
DTSTART:20210314T070000
END:DAYLIGHT
BEGIN:STANDARD
TZOFFSETFROM:-0400
TZOFFSETTO:-0500
TZNAME:EST
DTSTART:20211107T060000
END:STANDARD
BEGIN:DAYLIGHT
TZOFFSETFROM:-0500
TZOFFSETTO:-0400
TZNAME:EDT
DTSTART:20220313T070000
END:DAYLIGHT
BEGIN:STANDARD
TZOFFSETFROM:-0400
TZOFFSETTO:-0500
TZNAME:EST
DTSTART:20221106T060000
END:STANDARD
BEGIN:DAYLIGHT
TZOFFSETFROM:-0500
TZOFFSETTO:-0400
TZNAME:EDT
DTSTART:20230312T070000
END:DAYLIGHT
BEGIN:STANDARD
TZOFFSETFROM:-0400
TZOFFSETTO:-0500
TZNAME:EST
DTSTART:20231105T060000
END:STANDARD
END:VTIMEZONE
BEGIN:VEVENT
DTSTART;TZID=America/New_York:20220603T120000
DTEND;TZID=America/New_York:20220603T130000
DTSTAMP:20260421T210203
CREATED:20220520T142940Z
LAST-MODIFIED:20220520T142940Z
UID:10000566-1654257600-1654261200@cscmovement.org
SUMMARY:The Church & a Polarized America
DESCRIPTION:The toxic divisions\, cancel culture and partisan hatred that continue to grip America are a challenge not just for our country but for our faith. Many churches are divided\, while many Christians are selecting out of churches they’ve been a part of for a long time to find a church that more fully lines up with their political views. More than a third of pastors have considered quitting their ministries. But faith is also the answer to our polarization. \nAndrew Hanauer is the President and CEO of the One America Movement\, an organization founded by faith and community leaders to fight toxic polarization in the aftermath of the 2016 election. Under Andrew’s leadership\, One America has launched projects that bring Americans together across divides to address race relations\, opioids\, poverty\, and religious differences across the country. In addition to running projects that unite Americans across divides\, the One America Movement trains religious leaders on the dynamics of polarization and division. \nUnder Hanauer’s leadership\, the One America Movement has built a board and leadership team that spans the political\, racial\, and religious spectrum. These include senior leaders from national Muslim\, Jewish\, and Evangelical Christian institutions\, such as the Southern Baptist Convention\, the United States Conference of Catholic Bishops\, Wheaton College\, Repair the World\, American Jewish World Service\, the Muslim Public Affairs Council\, the Cato Institute\, Black Lives Matter\, the George W. Bush Administration\, Silicon Valley\, and more. \nMr. Hanauer is a frequent public speaker at houses of worship of all kinds and has spoken at the United Nations\, the National Press Club\, and Congressional briefings. His work has been published or featured by USA Today\, The Washington Post\, National Public Radio\, Salon\, The Times of Israel\, Voice of America\, the Christian Citizen\, and media outlets across the US and abroad.
URL:https://cscmovement.org/event/the-church-a-polarized-america/
LOCATION:Capitol Building
CATEGORIES:In Person,Partner Events
ATTACH;FMTTYPE=image/png:https://cscmovement.org/wp-content/uploads/2022/02/faith-and-law-logo-seal-dark-Lauren-Noyes.png
END:VEVENT
END:VCALENDAR