BEGIN:VCALENDAR
VERSION:2.0
PRODID:-//Consortium of Christian Study Centers - ECPv6.15.20//NONSGML v1.0//EN
CALSCALE:GREGORIAN
METHOD:PUBLISH
X-WR-CALNAME:Consortium of Christian Study Centers
X-ORIGINAL-URL:https://cscmovement.org
X-WR-CALDESC:Events for Consortium of Christian Study Centers
REFRESH-INTERVAL;VALUE=DURATION:PT1H
X-Robots-Tag:noindex
X-PUBLISHED-TTL:PT1H
BEGIN:VTIMEZONE
TZID:America/New_York
BEGIN:DAYLIGHT
TZOFFSETFROM:-0500
TZOFFSETTO:-0400
TZNAME:EDT
DTSTART:20210314T070000
END:DAYLIGHT
BEGIN:STANDARD
TZOFFSETFROM:-0400
TZOFFSETTO:-0500
TZNAME:EST
DTSTART:20211107T060000
END:STANDARD
BEGIN:DAYLIGHT
TZOFFSETFROM:-0500
TZOFFSETTO:-0400
TZNAME:EDT
DTSTART:20220313T070000
END:DAYLIGHT
BEGIN:STANDARD
TZOFFSETFROM:-0400
TZOFFSETTO:-0500
TZNAME:EST
DTSTART:20221106T060000
END:STANDARD
BEGIN:DAYLIGHT
TZOFFSETFROM:-0500
TZOFFSETTO:-0400
TZNAME:EDT
DTSTART:20230312T070000
END:DAYLIGHT
BEGIN:STANDARD
TZOFFSETFROM:-0400
TZOFFSETTO:-0500
TZNAME:EST
DTSTART:20231105T060000
END:STANDARD
BEGIN:DAYLIGHT
TZOFFSETFROM:-0500
TZOFFSETTO:-0400
TZNAME:EDT
DTSTART:20240310T070000
END:DAYLIGHT
BEGIN:STANDARD
TZOFFSETFROM:-0400
TZOFFSETTO:-0500
TZNAME:EST
DTSTART:20241103T060000
END:STANDARD
END:VTIMEZONE
BEGIN:VEVENT
DTSTART;TZID=America/New_York:20231128T190000
DTEND;TZID=America/New_York:20231128T200000
DTSTAMP:20260422T005419
CREATED:20231031T145330Z
LAST-MODIFIED:20231031T145330Z
UID:10000975-1701198000-1701201600@cscmovement.org
SUMMARY:What Protestants (& Catholics) Can Learn From Francis of Assisi
DESCRIPTION:Francis of Assisi is well known and hardly known at all. Rhys Bezzant\, Dean of Missional Leadership at Ridley College in Melbourne\, Australia\, will explore how Francis of Assisi sought to renew the church and encourage deep fellowship among believers.
URL:https://cscmovement.org/event/what-protestants-catholics-can-learn-from-francis-of-assisi/
LOCATION:Bradley Study Center\, 104 Faculty St\, Blacksburg\, VA\, 24060
CATEGORIES:In Person,Study Center Events
ATTACH;FMTTYPE=image/png:https://cscmovement.org/wp-content/uploads/2022/01/bsc-logo-Mike-Weaver.png
END:VEVENT
BEGIN:VEVENT
DTSTART;TZID=America/New_York:20231113T121500
DTEND;TZID=America/New_York:20231113T131500
DTSTAMP:20260422T005419
CREATED:20230906T160625Z
LAST-MODIFIED:20231031T152005Z
UID:10000839-1699877700-1699881300@cscmovement.org
SUMMARY:Mere Christianity Reading Group
DESCRIPTION:Join the Bradley Study Center and Mark Filiatreau\, retired Patrick Henry College professor\, to read through and discuss C.S. Lewis’ Mere Christianity.
URL:https://cscmovement.org/event/mere-christianity-reading-group/2023-11-13/
LOCATION:Bradley Study Center\, 104 Faculty St\, Blacksburg\, VA\, 24060
CATEGORIES:In Person,Study Center Events
ATTACH;FMTTYPE=image/png:https://cscmovement.org/wp-content/uploads/2022/01/bsc-logo-Mike-Weaver.png
END:VEVENT
BEGIN:VEVENT
DTSTART;TZID=America/New_York:20231106T121500
DTEND;TZID=America/New_York:20231106T131500
DTSTAMP:20260422T005419
CREATED:20230906T160625Z
LAST-MODIFIED:20231031T152005Z
UID:10000838-1699272900-1699276500@cscmovement.org
SUMMARY:Mere Christianity Reading Group
DESCRIPTION:Join the Bradley Study Center and Mark Filiatreau\, retired Patrick Henry College professor\, to read through and discuss C.S. Lewis’ Mere Christianity.
URL:https://cscmovement.org/event/mere-christianity-reading-group/2023-11-06/
LOCATION:Bradley Study Center\, 104 Faculty St\, Blacksburg\, VA\, 24060
CATEGORIES:In Person,Study Center Events
ATTACH;FMTTYPE=image/png:https://cscmovement.org/wp-content/uploads/2022/01/bsc-logo-Mike-Weaver.png
END:VEVENT
BEGIN:VEVENT
DTSTART;TZID=America/New_York:20231101T190000
DTEND;TZID=America/New_York:20231101T203000
DTSTAMP:20260422T005419
CREATED:20231006T134315Z
LAST-MODIFIED:20231006T134315Z
UID:10000967-1698865200-1698870600@cscmovement.org
SUMMARY:Building Tents on the Drillfield
DESCRIPTION:Mike Weaver\, Executive Director of the Bradley Study Center\, will deliver a lecture on the results of his doctoral research and offer some suggestions for what “faithful presence” might mean for Christians at a public university like Virginia Tech.
URL:https://cscmovement.org/event/building-tents-on-the-drillfield/
LOCATION:Bradley Study Center\, 104 Faculty St\, Blacksburg\, VA\, 24060
CATEGORIES:In Person,Study Center Events
ATTACH;FMTTYPE=image/png:https://cscmovement.org/wp-content/uploads/2022/01/bsc-logo-Mike-Weaver.png
END:VEVENT
BEGIN:VEVENT
DTSTART;TZID=America/New_York:20231030T121500
DTEND;TZID=America/New_York:20231030T131500
DTSTAMP:20260422T005419
CREATED:20230906T160625Z
LAST-MODIFIED:20231031T152005Z
UID:10000837-1698668100-1698671700@cscmovement.org
SUMMARY:Mere Christianity Reading Group
DESCRIPTION:Join the Bradley Study Center and Mark Filiatreau\, retired Patrick Henry College professor\, to read through and discuss C.S. Lewis’ Mere Christianity.
URL:https://cscmovement.org/event/mere-christianity-reading-group/2023-10-30/
LOCATION:Bradley Study Center\, 104 Faculty St\, Blacksburg\, VA\, 24060
CATEGORIES:In Person,Study Center Events
ATTACH;FMTTYPE=image/png:https://cscmovement.org/wp-content/uploads/2022/01/bsc-logo-Mike-Weaver.png
END:VEVENT
BEGIN:VEVENT
DTSTART;TZID=America/New_York:20231023T121500
DTEND;TZID=America/New_York:20231023T131500
DTSTAMP:20260422T005419
CREATED:20230906T160625Z
LAST-MODIFIED:20231031T152005Z
UID:10000836-1698063300-1698066900@cscmovement.org
SUMMARY:Mere Christianity Reading Group
DESCRIPTION:Join the Bradley Study Center and Mark Filiatreau\, retired Patrick Henry College professor\, to read through and discuss C.S. Lewis’ Mere Christianity.
URL:https://cscmovement.org/event/mere-christianity-reading-group/2023-10-23/
LOCATION:Bradley Study Center\, 104 Faculty St\, Blacksburg\, VA\, 24060
CATEGORIES:In Person,Study Center Events
ATTACH;FMTTYPE=image/png:https://cscmovement.org/wp-content/uploads/2022/01/bsc-logo-Mike-Weaver.png
END:VEVENT
BEGIN:VEVENT
DTSTART;TZID=America/New_York:20231016T121500
DTEND;TZID=America/New_York:20231016T131500
DTSTAMP:20260422T005419
CREATED:20230906T160625Z
LAST-MODIFIED:20231031T152005Z
UID:10000835-1697458500-1697462100@cscmovement.org
SUMMARY:Mere Christianity Reading Group
DESCRIPTION:Join the Bradley Study Center and Mark Filiatreau\, retired Patrick Henry College professor\, to read through and discuss C.S. Lewis’ Mere Christianity.
URL:https://cscmovement.org/event/mere-christianity-reading-group/2023-10-16/
LOCATION:Bradley Study Center\, 104 Faculty St\, Blacksburg\, VA\, 24060
CATEGORIES:In Person,Study Center Events
ATTACH;FMTTYPE=image/png:https://cscmovement.org/wp-content/uploads/2022/01/bsc-logo-Mike-Weaver.png
END:VEVENT
BEGIN:VEVENT
DTSTART;TZID=America/New_York:20231009T121500
DTEND;TZID=America/New_York:20231009T131500
DTSTAMP:20260422T005419
CREATED:20230906T160625Z
LAST-MODIFIED:20231031T152005Z
UID:10000834-1696853700-1696857300@cscmovement.org
SUMMARY:Mere Christianity Reading Group
DESCRIPTION:Join the Bradley Study Center and Mark Filiatreau\, retired Patrick Henry College professor\, to read through and discuss C.S. Lewis’ Mere Christianity.
URL:https://cscmovement.org/event/mere-christianity-reading-group/2023-10-09/
LOCATION:Bradley Study Center\, 104 Faculty St\, Blacksburg\, VA\, 24060
CATEGORIES:In Person,Study Center Events
ATTACH;FMTTYPE=image/png:https://cscmovement.org/wp-content/uploads/2022/01/bsc-logo-Mike-Weaver.png
END:VEVENT
BEGIN:VEVENT
DTSTART;TZID=America/New_York:20231002T121500
DTEND;TZID=America/New_York:20231002T131500
DTSTAMP:20260422T005419
CREATED:20230906T160625Z
LAST-MODIFIED:20231031T152005Z
UID:10000833-1696248900-1696252500@cscmovement.org
SUMMARY:Mere Christianity Reading Group
DESCRIPTION:Join the Bradley Study Center and Mark Filiatreau\, retired Patrick Henry College professor\, to read through and discuss C.S. Lewis’ Mere Christianity.
URL:https://cscmovement.org/event/mere-christianity-reading-group/2023-10-02/
LOCATION:Bradley Study Center\, 104 Faculty St\, Blacksburg\, VA\, 24060
CATEGORIES:In Person,Study Center Events
ATTACH;FMTTYPE=image/png:https://cscmovement.org/wp-content/uploads/2022/01/bsc-logo-Mike-Weaver.png
END:VEVENT
BEGIN:VEVENT
DTSTART;TZID=America/New_York:20230925T121500
DTEND;TZID=America/New_York:20230925T131500
DTSTAMP:20260422T005419
CREATED:20230906T160625Z
LAST-MODIFIED:20231031T152005Z
UID:10000832-1695644100-1695647700@cscmovement.org
SUMMARY:Mere Christianity Reading Group
DESCRIPTION:Join the Bradley Study Center and Mark Filiatreau\, retired Patrick Henry College professor\, to read through and discuss C.S. Lewis’ Mere Christianity.
URL:https://cscmovement.org/event/mere-christianity-reading-group/2023-09-25/
LOCATION:Bradley Study Center\, 104 Faculty St\, Blacksburg\, VA\, 24060
CATEGORIES:In Person,Study Center Events
ATTACH;FMTTYPE=image/png:https://cscmovement.org/wp-content/uploads/2022/01/bsc-logo-Mike-Weaver.png
END:VEVENT
BEGIN:VEVENT
DTSTART;TZID=America/New_York:20230918T121500
DTEND;TZID=America/New_York:20230918T131500
DTSTAMP:20260422T005419
CREATED:20230906T160625Z
LAST-MODIFIED:20231031T152005Z
UID:10000831-1695039300-1695042900@cscmovement.org
SUMMARY:Mere Christianity Reading Group
DESCRIPTION:Join the Bradley Study Center and Mark Filiatreau\, retired Patrick Henry College professor\, to read through and discuss C.S. Lewis’ Mere Christianity.
URL:https://cscmovement.org/event/mere-christianity-reading-group/2023-09-18/
LOCATION:Bradley Study Center\, 104 Faculty St\, Blacksburg\, VA\, 24060
CATEGORIES:In Person,Study Center Events
ATTACH;FMTTYPE=image/png:https://cscmovement.org/wp-content/uploads/2022/01/bsc-logo-Mike-Weaver.png
END:VEVENT
BEGIN:VEVENT
DTSTART;TZID=America/New_York:20230911T121500
DTEND;TZID=America/New_York:20230911T131500
DTSTAMP:20260422T005419
CREATED:20230906T160625Z
LAST-MODIFIED:20231031T152005Z
UID:10000830-1694434500-1694438100@cscmovement.org
SUMMARY:Mere Christianity Reading Group
DESCRIPTION:Join the Bradley Study Center and Mark Filiatreau\, retired Patrick Henry College professor\, to read through and discuss C.S. Lewis’ Mere Christianity.
URL:https://cscmovement.org/event/mere-christianity-reading-group/2023-09-11/
LOCATION:Bradley Study Center\, 104 Faculty St\, Blacksburg\, VA\, 24060
CATEGORIES:In Person,Study Center Events
ATTACH;FMTTYPE=image/png:https://cscmovement.org/wp-content/uploads/2022/01/bsc-logo-Mike-Weaver.png
END:VEVENT
BEGIN:VEVENT
DTSTART;TZID=America/New_York:20230504T080000
DTEND;TZID=America/New_York:20230504T093000
DTSTAMP:20260422T005419
CREATED:20230428T185729Z
LAST-MODIFIED:20230428T185729Z
UID:10000680-1683187200-1683192600@cscmovement.org
SUMMARY:Faculty Coffee Hour
DESCRIPTION:Virginia Tech faculty and staff are invited to a fellowship gathering at the Bradley Study Center as finals begin. Enjoy coffee\, donuts and conversation.
URL:https://cscmovement.org/event/faculty-coffee-hour/
LOCATION:Bradley Study Center\, 104 Faculty St\, Blacksburg\, VA\, 24060
CATEGORIES:In Person,Study Center Events
ATTACH;FMTTYPE=image/png:https://cscmovement.org/wp-content/uploads/2022/01/bsc-logo-Mike-Weaver.png
END:VEVENT
BEGIN:VEVENT
DTSTART;TZID=America/New_York:20230412T190000
DTEND;TZID=America/New_York:20230412T203000
DTSTAMP:20260422T005419
CREATED:20230404T163439Z
LAST-MODIFIED:20230404T163439Z
UID:10000664-1681326000-1681331400@cscmovement.org
SUMMARY:Lyric Theology: Book Launch Dessert Reception
DESCRIPTION:Celebrate the launch of Lyric Theology\, a new book by Thomas Gardner\, Professor of English at Virigina Tech\, and hear Gardner talk about the way four important contemporary artists—poet Czeslaw Miloosz\, filmmaker Terrence Malick\, novelist Marilynne Robinson\, and lyric essayist Annie Dillard—draw on modes of thinking rooted in lyric poetry to explore what the world looks like when seen as created and received as a gift.
URL:https://cscmovement.org/event/lyric-theology-book-launch-dessert-reception/
LOCATION:Bradley Study Center\, 104 Faculty St\, Blacksburg\, VA\, 24060
CATEGORIES:In Person,Study Center Events
ATTACH;FMTTYPE=image/png:https://cscmovement.org/wp-content/uploads/2022/01/bsc-logo-Mike-Weaver.png
END:VEVENT
BEGIN:VEVENT
DTSTART;TZID=America/New_York:20221018T173000
DTEND;TZID=America/New_York:20221018T183000
DTSTAMP:20260422T005419
CREATED:20221004T101736Z
LAST-MODIFIED:20221004T101736Z
UID:10000485-1666114200-1666117800@cscmovement.org
SUMMARY:Pizza with the Profs: Provost Edition
DESCRIPTION:It’s a long-standing tradition at the Bradley Study Center to host gatherings to ask Christian faculty about their faith and their life at Virginia Tech. Come hear from Executive VP and Provost of Virginia Tech\, Cyril Clarke\, talk about his faith and life in the university. Mark your calendar for a time of pizza and conversation with someone who works in a unique area of impact! 
URL:https://cscmovement.org/event/pizza-with-the-profs-provost-edition/
LOCATION:Bradley Study Center\, 104 Faculty St\, Blacksburg\, VA\, 24060
CATEGORIES:In Person,Study Center Events
ATTACH;FMTTYPE=image/png:https://cscmovement.org/wp-content/uploads/2022/01/bsc-logo-Mike-Weaver.png
END:VEVENT
END:VCALENDAR