BEGIN:VCALENDAR
VERSION:2.0
PRODID:-//Consortium of Christian Study Centers - ECPv6.15.20//NONSGML v1.0//EN
CALSCALE:GREGORIAN
METHOD:PUBLISH
X-ORIGINAL-URL:https://cscmovement.org
X-WR-CALDESC:Events for Consortium of Christian Study Centers
REFRESH-INTERVAL;VALUE=DURATION:PT1H
X-Robots-Tag:noindex
X-PUBLISHED-TTL:PT1H
BEGIN:VTIMEZONE
TZID:America/New_York
BEGIN:DAYLIGHT
TZOFFSETFROM:-0500
TZOFFSETTO:-0400
TZNAME:EDT
DTSTART:20210314T070000
END:DAYLIGHT
BEGIN:STANDARD
TZOFFSETFROM:-0400
TZOFFSETTO:-0500
TZNAME:EST
DTSTART:20211107T060000
END:STANDARD
BEGIN:DAYLIGHT
TZOFFSETFROM:-0500
TZOFFSETTO:-0400
TZNAME:EDT
DTSTART:20220313T070000
END:DAYLIGHT
BEGIN:STANDARD
TZOFFSETFROM:-0400
TZOFFSETTO:-0500
TZNAME:EST
DTSTART:20221106T060000
END:STANDARD
BEGIN:DAYLIGHT
TZOFFSETFROM:-0500
TZOFFSETTO:-0400
TZNAME:EDT
DTSTART:20230312T070000
END:DAYLIGHT
BEGIN:STANDARD
TZOFFSETFROM:-0400
TZOFFSETTO:-0500
TZNAME:EST
DTSTART:20231105T060000
END:STANDARD
END:VTIMEZONE
BEGIN:VEVENT
DTSTART;VALUE=DATE:20220714
DTEND;VALUE=DATE:20220718
DTSTAMP:20260425T114054
CREATED:20220425T193745Z
LAST-MODIFIED:20220425T193745Z
UID:10000547-1657756800-1658102399@cscmovement.org
SUMMARY:Capitalism\, Free Trade\, and Globalization - A Graduate Student Colloquium
DESCRIPTION:Co-sponsored by Liberty Fund\, Inc.\, this program is an intellectually demanding and stimulating weekend colloquium that explores the foundations of liberty in a series of graduate-level\, text-based\, guided Socratic discussions. \n\n\n\n\n\nThis conference on Capitalism\, Free Trade\, and Globalization will examine the related subjects of free trade and globalization\, with particular emphasis on the interrelated institutions of capitalism and morality. We will examine works such as Adam Smith’s The Wealth of Nations\, Frederic Bastiat’s Economic Sophisms\, Martin Wolf’s Why Globalization Works\, and others. The first part of this colloquium will focus on the classic economic and political rationales for the policies of free trade and protectionism. The second part will explore the relationship between the institutions of capitalism\, morality\, and globalization.
URL:https://cscmovement.org/event/capitalism-free-trade-and-globalization-a-graduate-student-colloquium/
LOCATION:Amway Grand Plaza Hotel\, 187 Monroe Ave NW\, Grand Rapids\, MI\, 49503
CATEGORIES:In Person,Partner Events
ATTACH;FMTTYPE=image/png:https://cscmovement.org/wp-content/uploads/2022/02/Acton.png
END:VEVENT
END:VCALENDAR