BEGIN:VCALENDAR
VERSION:2.0
PRODID:-//Consortium of Christian Study Centers - ECPv6.15.20//NONSGML v1.0//EN
CALSCALE:GREGORIAN
METHOD:PUBLISH
X-ORIGINAL-URL:https://cscmovement.org
X-WR-CALDESC:Events for Consortium of Christian Study Centers
REFRESH-INTERVAL;VALUE=DURATION:PT1H
X-Robots-Tag:noindex
X-PUBLISHED-TTL:PT1H
BEGIN:VTIMEZONE
TZID:America/New_York
BEGIN:DAYLIGHT
TZOFFSETFROM:-0500
TZOFFSETTO:-0400
TZNAME:EDT
DTSTART:20220313T070000
END:DAYLIGHT
BEGIN:STANDARD
TZOFFSETFROM:-0400
TZOFFSETTO:-0500
TZNAME:EST
DTSTART:20221106T060000
END:STANDARD
BEGIN:DAYLIGHT
TZOFFSETFROM:-0500
TZOFFSETTO:-0400
TZNAME:EDT
DTSTART:20230312T070000
END:DAYLIGHT
BEGIN:STANDARD
TZOFFSETFROM:-0400
TZOFFSETTO:-0500
TZNAME:EST
DTSTART:20231105T060000
END:STANDARD
BEGIN:DAYLIGHT
TZOFFSETFROM:-0500
TZOFFSETTO:-0400
TZNAME:EDT
DTSTART:20240310T070000
END:DAYLIGHT
BEGIN:STANDARD
TZOFFSETFROM:-0400
TZOFFSETTO:-0500
TZNAME:EST
DTSTART:20241103T060000
END:STANDARD
END:VTIMEZONE
BEGIN:VEVENT
DTSTART;VALUE=DATE:20230810
DTEND;VALUE=DATE:20230813
DTSTAMP:20260421T194541
CREATED:20230404T164800Z
LAST-MODIFIED:20230404T164800Z
UID:10000670-1691625600-1691884799@cscmovement.org
SUMMARY:2023 Political Theology Workshop
DESCRIPTION:Baylor in Washington will host a seminar in Washington\, D.C. August 10-12 to examine key issues at the intersection of faith\, ethics\, and public policy. These discussion-based seminars are designed for young professionals and rising academics seeking to integrate their beliefs with questions they encounter in their intellectual and professional endeavors.
URL:https://cscmovement.org/event/2023-political-theology-workshop/
LOCATION:American Enterprise Institute\, 1789 Massachusetts Ave NW\, Washington\, DC\, 20036
CATEGORIES:In Person,Partner Events
ATTACH;FMTTYPE=image/png:https://cscmovement.org/wp-content/uploads/2022/02/Baylor-in-Washington.png
END:VEVENT
END:VCALENDAR