BEGIN:VCALENDAR
VERSION:2.0
PRODID:-//Consortium of Christian Study Centers - ECPv6.15.20//NONSGML v1.0//EN
CALSCALE:GREGORIAN
METHOD:PUBLISH
X-ORIGINAL-URL:https://cscmovement.org
X-WR-CALDESC:Events for Consortium of Christian Study Centers
REFRESH-INTERVAL;VALUE=DURATION:PT1H
X-Robots-Tag:noindex
X-PUBLISHED-TTL:PT1H
BEGIN:VTIMEZONE
TZID:America/Chicago
BEGIN:DAYLIGHT
TZOFFSETFROM:-0600
TZOFFSETTO:-0500
TZNAME:CDT
DTSTART:20210314T080000
END:DAYLIGHT
BEGIN:STANDARD
TZOFFSETFROM:-0500
TZOFFSETTO:-0600
TZNAME:CST
DTSTART:20211107T070000
END:STANDARD
BEGIN:DAYLIGHT
TZOFFSETFROM:-0600
TZOFFSETTO:-0500
TZNAME:CDT
DTSTART:20220313T080000
END:DAYLIGHT
BEGIN:STANDARD
TZOFFSETFROM:-0500
TZOFFSETTO:-0600
TZNAME:CST
DTSTART:20221106T070000
END:STANDARD
BEGIN:DAYLIGHT
TZOFFSETFROM:-0600
TZOFFSETTO:-0500
TZNAME:CDT
DTSTART:20230312T080000
END:DAYLIGHT
BEGIN:STANDARD
TZOFFSETFROM:-0500
TZOFFSETTO:-0600
TZNAME:CST
DTSTART:20231105T070000
END:STANDARD
BEGIN:DAYLIGHT
TZOFFSETFROM:-0600
TZOFFSETTO:-0500
TZNAME:CDT
DTSTART:20240310T080000
END:DAYLIGHT
BEGIN:STANDARD
TZOFFSETFROM:-0500
TZOFFSETTO:-0600
TZNAME:CST
DTSTART:20241103T070000
END:STANDARD
END:VTIMEZONE
BEGIN:VTIMEZONE
TZID:America/New_York
BEGIN:DAYLIGHT
TZOFFSETFROM:-0500
TZOFFSETTO:-0400
TZNAME:EDT
DTSTART:20220313T070000
END:DAYLIGHT
BEGIN:STANDARD
TZOFFSETFROM:-0400
TZOFFSETTO:-0500
TZNAME:EST
DTSTART:20221106T060000
END:STANDARD
BEGIN:DAYLIGHT
TZOFFSETFROM:-0500
TZOFFSETTO:-0400
TZNAME:EDT
DTSTART:20230312T070000
END:DAYLIGHT
BEGIN:STANDARD
TZOFFSETFROM:-0400
TZOFFSETTO:-0500
TZNAME:EST
DTSTART:20231105T060000
END:STANDARD
BEGIN:DAYLIGHT
TZOFFSETFROM:-0500
TZOFFSETTO:-0400
TZNAME:EDT
DTSTART:20240310T070000
END:DAYLIGHT
BEGIN:STANDARD
TZOFFSETFROM:-0400
TZOFFSETTO:-0500
TZNAME:EST
DTSTART:20241103T060000
END:STANDARD
END:VTIMEZONE
BEGIN:VEVENT
DTSTART;TZID=America/Chicago:20231111T190000
DTEND;TZID=America/Chicago:20231111T200000
DTSTAMP:20260425T083757
CREATED:20231006T134422Z
LAST-MODIFIED:20231006T134422Z
UID:10000968-1699729200-1699732800@cscmovement.org
SUMMARY:Math & Love
DESCRIPTION:What does mathematics have to do with love? Pascal Study Center hosts James Drimalla of the University of Virginia to uncover the connection between mathematics and flourishing human relationships.
URL:https://cscmovement.org/event/math-love/
LOCATION:All Souls Presbyterian Church\, 202 W. Illinois St.\, Urbana\, Illinois
CATEGORIES:In Person,Study Center Events
ATTACH;FMTTYPE=image/svg+xml:https://cscmovement.org/wp-content/uploads/2022/02/Pascal-Study-Center-Logo.svg
END:VEVENT
BEGIN:VEVENT
DTSTART;TZID=America/New_York:20230225T190000
DTEND;TZID=America/New_York:20230225T210000
DTSTAMP:20260425T083757
CREATED:20230124T165221Z
LAST-MODIFIED:20230124T165221Z
UID:10000641-1677351600-1677358800@cscmovement.org
SUMMARY:Why Boredom Matters
DESCRIPTION:Hear from Dr. Kevin Gary\, Professor of Education at Valparaiso University\, as we examine the pervasive problem of distraction and boredom as a hindrance to human flourishing and consider ways to connect to richer moral and spiritual practices.
URL:https://cscmovement.org/event/why-boredom-matters/
LOCATION:All Souls Presbyterian Church\, 202 W. Illinois St.\, Urbana\, Illinois
CATEGORIES:In Person,Study Center Events
ATTACH;FMTTYPE=image/svg+xml:https://cscmovement.org/wp-content/uploads/2022/02/Pascal-Study-Center-Logo.svg
END:VEVENT
BEGIN:VEVENT
DTSTART;TZID=America/Chicago:20221208T190000
DTEND;TZID=America/Chicago:20221208T200000
DTSTAMP:20260425T083757
CREATED:20220819T165934Z
LAST-MODIFIED:20220819T165934Z
UID:10000446-1670526000-1670529600@cscmovement.org
SUMMARY:Paideia Reading Group
DESCRIPTION:Do you want to engage with classic Christian texts alongside other believers? Join Pascal Study Center’s Paideia reading group! This fall\, we are reading Athanasius’ On the Incarnation. Concerning Athanasius\, C. S. Lewis wrote\, “It is his glory that he did not move with the times; it is his reward that he now remains when those times\, as all times do\, have moved away.” Come join us in discussing this book that has truly stood the test of time. \nOrganized through the Paideia Center for Theological Discipleship\, this reading group is open to all Champaign-Urbana community members. Space is limited and registration is required. Contact us for a code for free registration.
URL:https://cscmovement.org/event/paideia-reading-group/2022-12-08/
LOCATION:All Souls Presbyterian Church\, 202 W. Illinois St.\, Urbana\, Illinois
CATEGORIES:In Person,Study Center Events
ATTACH;FMTTYPE=image/svg+xml:https://cscmovement.org/wp-content/uploads/2022/02/Pascal-Study-Center-Logo.svg
END:VEVENT
BEGIN:VEVENT
DTSTART;TZID=America/Chicago:20221027T190000
DTEND;TZID=America/Chicago:20221027T200000
DTSTAMP:20260425T083757
CREATED:20220819T165934Z
LAST-MODIFIED:20220819T165934Z
UID:10000445-1666897200-1666900800@cscmovement.org
SUMMARY:Paideia Reading Group
DESCRIPTION:Do you want to engage with classic Christian texts alongside other believers? Join Pascal Study Center’s Paideia reading group! This fall\, we are reading Athanasius’ On the Incarnation. Concerning Athanasius\, C. S. Lewis wrote\, “It is his glory that he did not move with the times; it is his reward that he now remains when those times\, as all times do\, have moved away.” Come join us in discussing this book that has truly stood the test of time. \nOrganized through the Paideia Center for Theological Discipleship\, this reading group is open to all Champaign-Urbana community members. Space is limited and registration is required. Contact us for a code for free registration.
URL:https://cscmovement.org/event/paideia-reading-group/2022-10-27/
LOCATION:All Souls Presbyterian Church\, 202 W. Illinois St.\, Urbana\, Illinois
CATEGORIES:In Person,Study Center Events
ATTACH;FMTTYPE=image/svg+xml:https://cscmovement.org/wp-content/uploads/2022/02/Pascal-Study-Center-Logo.svg
END:VEVENT
BEGIN:VEVENT
DTSTART;TZID=America/Chicago:20220929T190000
DTEND;TZID=America/Chicago:20220929T200000
DTSTAMP:20260425T083757
CREATED:20220819T165934Z
LAST-MODIFIED:20220819T165934Z
UID:10000444-1664478000-1664481600@cscmovement.org
SUMMARY:Paideia Reading Group
DESCRIPTION:Do you want to engage with classic Christian texts alongside other believers? Join Pascal Study Center’s Paideia reading group! This fall\, we are reading Athanasius’ On the Incarnation. Concerning Athanasius\, C. S. Lewis wrote\, “It is his glory that he did not move with the times; it is his reward that he now remains when those times\, as all times do\, have moved away.” Come join us in discussing this book that has truly stood the test of time. \nOrganized through the Paideia Center for Theological Discipleship\, this reading group is open to all Champaign-Urbana community members. Space is limited and registration is required. Contact us for a code for free registration.
URL:https://cscmovement.org/event/paideia-reading-group/2022-09-29/
LOCATION:All Souls Presbyterian Church\, 202 W. Illinois St.\, Urbana\, Illinois
CATEGORIES:In Person,Study Center Events
ATTACH;FMTTYPE=image/svg+xml:https://cscmovement.org/wp-content/uploads/2022/02/Pascal-Study-Center-Logo.svg
END:VEVENT
END:VCALENDAR