BEGIN:VCALENDAR
VERSION:2.0
PRODID:-//Consortium of Christian Study Centers - ECPv6.15.20//NONSGML v1.0//EN
CALSCALE:GREGORIAN
METHOD:PUBLISH
X-WR-CALNAME:Consortium of Christian Study Centers
X-ORIGINAL-URL:https://cscmovement.org
X-WR-CALDESC:Events for Consortium of Christian Study Centers
REFRESH-INTERVAL;VALUE=DURATION:PT1H
X-Robots-Tag:noindex
X-PUBLISHED-TTL:PT1H
BEGIN:VTIMEZONE
TZID:America/Chicago
BEGIN:DAYLIGHT
TZOFFSETFROM:-0600
TZOFFSETTO:-0500
TZNAME:CDT
DTSTART:20210314T080000
END:DAYLIGHT
BEGIN:STANDARD
TZOFFSETFROM:-0500
TZOFFSETTO:-0600
TZNAME:CST
DTSTART:20211107T070000
END:STANDARD
BEGIN:DAYLIGHT
TZOFFSETFROM:-0600
TZOFFSETTO:-0500
TZNAME:CDT
DTSTART:20220313T080000
END:DAYLIGHT
BEGIN:STANDARD
TZOFFSETFROM:-0500
TZOFFSETTO:-0600
TZNAME:CST
DTSTART:20221106T070000
END:STANDARD
BEGIN:DAYLIGHT
TZOFFSETFROM:-0600
TZOFFSETTO:-0500
TZNAME:CDT
DTSTART:20230312T080000
END:DAYLIGHT
BEGIN:STANDARD
TZOFFSETFROM:-0500
TZOFFSETTO:-0600
TZNAME:CST
DTSTART:20231105T070000
END:STANDARD
END:VTIMEZONE
BEGIN:VEVENT
DTSTART;TZID=America/Chicago:20220427T190000
DTEND;TZID=America/Chicago:20220427T210000
DTSTAMP:20260421T222551
CREATED:20220419T185408Z
LAST-MODIFIED:20220419T185408Z
UID:10000537-1651086000-1651093200@cscmovement.org
SUMMARY:Forge Live Pitch Competition
DESCRIPTION:What does it look like for Christians to build ventures and businesses that disrupt exploitative industry norms\, contribute to the renewal of culture\, and bless customers\, workers\, and other stakeholders? Join Anselm House for our live Forge Competition\, as teams of UMN students pitch their redemptive ventures before a panel of successful Twin Cities entrepreneurs. The grand prize is $7\,500 seed money\, and YOU can vote to help determine the recipient of the “Audience-Choice” award!
URL:https://cscmovement.org/event/forge-live-pitch-competition/
LOCATION:7 Corners Coffee\, 1851 S. Washington Ave Suite D\, Minneapolis\, Minnesota\, 55454\, United States
CATEGORIES:In Person,Study Center Events
ATTACH;FMTTYPE=image/svg+xml:https://cscmovement.org/wp-content/uploads/2021/12/Anselm-House-Logo.svg
END:VEVENT
END:VCALENDAR