BEGIN:VCALENDAR
VERSION:2.0
PRODID:-//Consortium of Christian Study Centers - ECPv6.15.20//NONSGML v1.0//EN
CALSCALE:GREGORIAN
METHOD:PUBLISH
X-ORIGINAL-URL:https://cscmovement.org
X-WR-CALDESC:Events for Consortium of Christian Study Centers
REFRESH-INTERVAL;VALUE=DURATION:PT1H
X-Robots-Tag:noindex
X-PUBLISHED-TTL:PT1H
BEGIN:VTIMEZONE
TZID:America/New_York
BEGIN:DAYLIGHT
TZOFFSETFROM:-0500
TZOFFSETTO:-0400
TZNAME:EDT
DTSTART:20210314T070000
END:DAYLIGHT
BEGIN:STANDARD
TZOFFSETFROM:-0400
TZOFFSETTO:-0500
TZNAME:EST
DTSTART:20211107T060000
END:STANDARD
BEGIN:DAYLIGHT
TZOFFSETFROM:-0500
TZOFFSETTO:-0400
TZNAME:EDT
DTSTART:20220313T070000
END:DAYLIGHT
BEGIN:STANDARD
TZOFFSETFROM:-0400
TZOFFSETTO:-0500
TZNAME:EST
DTSTART:20221106T060000
END:STANDARD
BEGIN:DAYLIGHT
TZOFFSETFROM:-0500
TZOFFSETTO:-0400
TZNAME:EDT
DTSTART:20230312T070000
END:DAYLIGHT
BEGIN:STANDARD
TZOFFSETFROM:-0400
TZOFFSETTO:-0500
TZNAME:EST
DTSTART:20231105T060000
END:STANDARD
BEGIN:DAYLIGHT
TZOFFSETFROM:-0500
TZOFFSETTO:-0400
TZNAME:EDT
DTSTART:20240310T070000
END:DAYLIGHT
BEGIN:STANDARD
TZOFFSETFROM:-0400
TZOFFSETTO:-0500
TZNAME:EST
DTSTART:20241103T060000
END:STANDARD
BEGIN:DAYLIGHT
TZOFFSETFROM:-0500
TZOFFSETTO:-0400
TZNAME:EDT
DTSTART:20250309T070000
END:DAYLIGHT
BEGIN:STANDARD
TZOFFSETFROM:-0400
TZOFFSETTO:-0500
TZNAME:EST
DTSTART:20251102T060000
END:STANDARD
BEGIN:DAYLIGHT
TZOFFSETFROM:-0500
TZOFFSETTO:-0400
TZNAME:EDT
DTSTART:20260308T070000
END:DAYLIGHT
BEGIN:STANDARD
TZOFFSETFROM:-0400
TZOFFSETTO:-0500
TZNAME:EST
DTSTART:20261101T060000
END:STANDARD
BEGIN:DAYLIGHT
TZOFFSETFROM:-0500
TZOFFSETTO:-0400
TZNAME:EDT
DTSTART:20270314T070000
END:DAYLIGHT
BEGIN:STANDARD
TZOFFSETFROM:-0400
TZOFFSETTO:-0500
TZNAME:EST
DTSTART:20271107T060000
END:STANDARD
END:VTIMEZONE
BEGIN:VEVENT
DTSTART;TZID=America/New_York:20260319T150000
DTEND;TZID=America/New_York:20260319T163000
DTSTAMP:20260423T121320
CREATED:20260304T160403Z
LAST-MODIFIED:20260304T165104Z
UID:10001135-1773932400-1773937800@cscmovement.org
SUMMARY:Online Workshop on "Lessons Learned"
DESCRIPTION:Of special interest to those in the process of starting a study center\, Frederick Barber (CCSC Director of Strategic Initiatives) and Will Harris (Executive Director of Shiloh Society at Texas A&M\, founded 2025) will lead this online workshop entitled “Lessons Learned: Factors for Success in Starting a Christian Study Center” looking at the data on the effective launch of centers in previous years.
URL:https://cscmovement.org/event/online-workshop-on-lessons-learned/
CATEGORIES:CCSC Events,Virtual
ATTACH;FMTTYPE=image/png:https://cscmovement.org/wp-content/uploads/2022/02/Fred-Barber-Headshot.png
LOCATION:https://u24275909.ct.sendgrid.net/ls/click?upn=u001.5mtWgjU4cDhJ6AG-2BPWqfqVB8tuPzyPKYU2W-2BOE4-2BEBd-2FUZV3lZcrq1j0HeiLiCzhnOD4imykq4WK83aLMSDOePbbZZvEb7ESPuF6GHCHdg1Thez4W-2FkQBuz5r9-2BZhKCo4pcV_mR33FhrHyVWeUemUkhyXJsb8ZviOPL9WayVcCZFcNk-2BqpXH8O00o9KU4aipXBhjtRVdIPQbSEwbtqhWogWULXp4MF92bb1x16Szdx009P9SXaMkrVkhykA0ZwsuowhyV0VCcmMfgGlH-2FePOrTkdZf5fvGmRh1oC-2ByZsO6rhZskjTsIoBFL9shVN3yGn3KIRhsuCacp7VGBGmBaYRYE1rRBVUPNa0Q1AB1C8XKrIdod4f5dc0JiLUEK5oFiBFemw-2BEEvIYfIBIrWWZI9caQZ8S0hjEzOfrN2gK-2FXNIDf3qZm-2B-2FDBTI2iUlzo7-2Fl-2FE-2BPzflgNrkv0cLEesxX-2B7BAmbWcibXDxf30D65YF9FN0mel8wWT36N0JZG-2BB-2FIG7W24KKX1-2BY-2BJrkU6sS8Io-2Fk1AHPg-3D-3D
END:VEVENT
BEGIN:VEVENT
DTSTART;VALUE=DATE:20220710
DTEND;VALUE=DATE:20220723
DTSTAMP:20260423T121320
CREATED:20220318T141425Z
LAST-MODIFIED:20220603T144704Z
UID:10000529-1657411200-1658534399@cscmovement.org
SUMMARY:Vocation Project
DESCRIPTION:The Consortium is pleased to provide scholarships to member study center students and other qualified applicants to supply two weeks’ audit tuition\, a food stipend and lodging at Regent College’s famous Summer School in Vancouver\, British Columbia. \nRegent’s Summer School features the best of American\, British and Continental evangelical scholars from every part of the globe. Past lecturers have included N.T. Wright\, Steve Garber\, George Marsden and Amy Sherman. This year’s lecturers include Tremper Longman\, C. Stephen Evans and Rikk Watts. \nRecipients also enjoy opportunities such as a Bard on the Beach\, hikes in the spectacular forests surrounding Vancouver and private meals with professors. Complete with open lectures\, panel discussions\, film showings and artistic performances\, the Summer School never ceases to be stimulating.
URL:https://cscmovement.org/event/vocation-project/
LOCATION:Regent College\, Vancouver\, British Columbia\, Canada
CATEGORIES:CCSC Events,In Person
ATTACH;FMTTYPE=image/jpeg:https://cscmovement.org/wp-content/uploads/2022/03/UBC-Campus-scaled.jpg
END:VEVENT
END:VCALENDAR